BEGIN:VCALENDAR
VERSION:2.0
PRODID:-//Selbsthilfe Burnout und Depression - ECPv6.6.3//NONSGML v1.0//EN
CALSCALE:GREGORIAN
METHOD:PUBLISH
X-WR-CALNAME:Selbsthilfe Burnout und Depression
X-ORIGINAL-URL:https://selbsthilfe-burnout-und-depression.de
X-WR-CALDESC:Veranstaltungen für Selbsthilfe Burnout und Depression
REFRESH-INTERVAL;VALUE=DURATION:PT1H
X-Robots-Tag:noindex
X-PUBLISHED-TTL:PT1H
BEGIN:VTIMEZONE
TZID:Europe/Paris
BEGIN:DAYLIGHT
TZOFFSETFROM:+0100
TZOFFSETTO:+0200
TZNAME:CEST
DTSTART:20240331T010000
END:DAYLIGHT
BEGIN:STANDARD
TZOFFSETFROM:+0200
TZOFFSETTO:+0100
TZNAME:CET
DTSTART:20241027T010000
END:STANDARD
END:VTIMEZONE
BEGIN:VEVENT
DTSTART;TZID=Europe/Paris:20241021T190000
DTEND;TZID=Europe/Paris:20241021T210000
DTSTAMP:20260423T161059
CREATED:20240922T210612Z
LAST-MODIFIED:20241020T212705Z
UID:10001339-1729537200-1729544400@selbsthilfe-burnout-und-depression.de
SUMMARY:Selbsthilfegruppe ABC Online am Montag –   Findet ausnahmsweise nicht statt!
DESCRIPTION:Die Selbsthilfegruppe ABC Online am Montag findet regelmäßig am dritten Montag im Monat von 19:00 bis 21:00 online statt. Die Einwahl ist https://us02web.zoom.us/j/805791047 \nDie Einwahl in die Selbsthilfegruppe ABC Online am Montag ist immer 10 Minuten vor dem offiziellen Beginn möglich und sinnvoll. Dies dient zum Ankommen\, Austausch untereinander oder auch dazu\, technische Schwierigkeiten vor Beginn zu beseitigen. Wir legen Wert darauf\, dass jeder mit Bild und Ton an der Veranstaltung teilnimmt. Nur so kann ein vertrauensvoller Austausch untereinander stattfinden. Bitte testet vorher bei der Einwahl Eure Kamera und das Audio. Weitergehende Unterstützung zu ZOOM findet ihr hier. \nNach der offiziellen Startzeit ist keine Einwahl mehr möglich\, denn dies ist Online noch störender als in Präsenzveranstaltungen. Danke für Euer Verständnis. Wir freuen uns auf Euch! \nEigene Grenzen erkennen und besser setzen lernen.\n \nViele von Stress und Burnout belastete Menschen berichten\, dass sie über längere Zeit ihre Leistungsgrenzen nicht wahrgenommen haben\, sondern eher selbstverständlich alle Anforderungen von außen erfüllten. Solche permanenten und unreflektierten Grenzüberschreitungen manifestieren sich häufig in physischen oder psychischen Beschwerden. Um dies in Zukunft besser zu machen\, können Menschen lernen\, ihre persönlichen Grenzen zu erkennen und nach außen zu wahren. Gleichzeitig dürfen sie die Grenzen\, die zu dem ungesunden Verhalten führen\, öffnen\, um alternative Verhaltensweisen zu erlernen. \nMit unseren Selbsthilfegruppen tragen wir zur emotionalen Entlastung und gegenseitige Unterstützung bei. Die Teilnehmenden geben sich gegenseitige wertschätzende Lebenshilfe. Durch die Teilnahme wird das Selbstbewusstsein und das Selbstwertgefühl gestärkt. Frühwarnzeichen können rechtzeitig erkannt werden\, das soziale Netz wird durch den Austausch mit den Teilnehmenden gestärkt. Die Selbsthilfegruppen tragen dazu bei\, ein individuelles Krisennetzwerk und einen entsprechenden Krisenplan aufzubauen. Übungen tragen zur erfolgreichen Erweiterung der Strategien im Umgang mit der Erkrankung bei. \nAnmeldung\nDu kannst immer ohne Anmeldung kommen. Für die Organisation des Treffens wäre eine Anmeldung hilfreich. \n\n\n\nDie monatliche Selbsthilfegruppe ermuntert die Teilnehmenden\, neue Sichtweisen zu einem bestimmten Thema auszuprobieren\, sich über Fremd- und Eigenwirkung der Übungen auszutauschen\, neue Handlungsmöglichkeiten zu erforschen und die eigene Lebenssituation neu zu bewerten. Darüber hinaus haben die Teilnehmenden die Möglichkeit\, mit anderen in einen persönlichen Erfahrungsaustausch zu kommen.  \nDie Veranstaltung wird durchgeführt von der Selbsthilfegruppe  ABC Online am Montag mit Unterstützung des Bundesverband Burnout und Depression e.V..  \nWeitere Veranstaltungen sind hier zu finden. \nInformationen zum Krankheitsbild sind hier auf den Seiten des Bundesverbandes zu finden.\n\n\n\nModerator:in\nThomas Grünschläger | Telefon – 0174 71 72 36 | Mail – tg (at) bvbud.de\n 
URL:https://selbsthilfe-burnout-und-depression.de/event/selbsthilfegruppe-abc-online-am-montag-eigene-grenzen-erkennen-und-besser-setzen-lernen
LOCATION:ABC ONLINE am Montag
CATEGORIES:Online
ORGANIZER;CN="Thomas Gr%C3%BCnschl%C3%A4ger":MAILTO:tg (at) bbud.info
END:VEVENT
END:VCALENDAR