BEGIN:VCALENDAR
VERSION:2.0
PRODID:-//Selbsthilfe Burnout und Depression - ECPv6.6.3//NONSGML v1.0//EN
CALSCALE:GREGORIAN
METHOD:PUBLISH
X-WR-CALNAME:Selbsthilfe Burnout und Depression
X-ORIGINAL-URL:https://selbsthilfe-burnout-und-depression.de
X-WR-CALDESC:Veranstaltungen für Selbsthilfe Burnout und Depression
REFRESH-INTERVAL;VALUE=DURATION:PT1H
X-Robots-Tag:noindex
X-PUBLISHED-TTL:PT1H
BEGIN:VTIMEZONE
TZID:Europe/Paris
BEGIN:DAYLIGHT
TZOFFSETFROM:+0100
TZOFFSETTO:+0200
TZNAME:CEST
DTSTART:20240331T010000
END:DAYLIGHT
BEGIN:STANDARD
TZOFFSETFROM:+0200
TZOFFSETTO:+0100
TZNAME:CET
DTSTART:20241027T010000
END:STANDARD
END:VTIMEZONE
BEGIN:VEVENT
DTSTART;TZID=Europe/Paris:20241022T183000
DTEND;TZID=Europe/Paris:20241022T200000
DTSTAMP:20260423T161053
CREATED:20240922T210613Z
LAST-MODIFIED:20241020T212705Z
UID:10001340-1729621800-1729627200@selbsthilfe-burnout-und-depression.de
SUMMARY:Selbsthilfegruppe ABC Online – Fokusgruppe: Dein Beitrag zur Burnout Forschung
DESCRIPTION:Die Selbsthilfegruppe ABC Online – Fokusgruppe – findet am Dienstag 22.09. von 18:30 bis 20:00 via zoom statt.\nDie Einwahl ist https://us02web.zoom.us/j/805791047 \nDie Einwahl in die Selbsthilfegruppe ABC Online  ist immer 10 Minuten vor dem offiziellen Beginn möglich und sinnvoll. Dies dient zum Ankommen\, Austausch untereinander oder auch dazu\, technische Schwierigkeiten vor Beginn zu beseitigen. Wir legen Wert darauf\, dass jeder mit Bild und Ton an der Veranstaltung teilnimmt. Nur so kann ein vertrauensvoller Austausch untereinander stattfinden. Bitte testet vorher bei der Einwahl Eure Kamera und das Audio. Weitergehende Unterstützung zu ZOOM findet ihr hier. \nNach der offiziellen Startzeit ist keine Einwahl mehr möglich\, denn dies ist Online noch störender als in Präsenzveranstaltungen. Danke für Euer Verständnis. Wir freuen uns auf Euch! \nFokusgruppe: Dein Beitrag zur Burnout Forschung\n \nDieses ABC wird anders verlaufen als gewohnt. Gemeinsam mit Jule Heyne\, Masterstudentin im Bereich Arbeitspsychologie\, bieten wir Dir die Chance\, aktiv zur Burnout-Forschung beizutragen.\nJule untersucht in ihrer Masterthesis den Einfluss verschiedener Arbeitsbedingungen und individueller Faktoren auf das Burnout-Risiko. Deine Teilnahme an dieser Fokusgruppe ermöglicht es\, wertvolle Einblicke zu gewinnen und das Verständnis für Burnout-Prävention zu vertiefen.\nDu hast die Möglichkeit\, Deine persönlichen Erfahrungen und Sichtweisen zu teilen. Themen wie Arbeitsbelastung\, Führungsverhalten\, kollegiale Unterstützung\, Work-Life-Balance und individuelle Bewältigungsstrategien stehen im Mittelpunkt der Diskussion.\nDein Beitrag hilft\, Risikofaktoren für Burnout besser zu identifizieren. Wir freuen uns über Deine Teilnahme.\n  \nMit unseren Selbsthilfegruppen tragen wir zur emotionalen Entlastung und gegenseitige Unterstützung bei. Die Teilnehmenden geben sich gegenseitige wertschätzende Lebenshilfe. Durch die Teilnahme wird das Selbstbewusstsein und das Selbstwertgefühl gestärkt. Frühwarnzeichen können rechtzeitig erkannt werden\, das soziale Netz wird durch den Austausch mit den Teilnehmenden gestärkt. Die Selbsthilfegruppen tragen dazu bei\, ein individuelles Krisennetzwerk und einen entsprechenden Krisenplan aufzubauen. Übungen tragen zur erfolgreichen Erweiterung der Strategien im Umgang mit der Erkrankung bei. \nAnmeldung\nDu kannst immer ohne Anmeldung kommen. Für die Organisation des Treffens wäre eine Anmeldung hilfreich. \n\n\n\nDie monatliche Selbsthilfegruppe ermuntert die Teilnehmenden\, neue Sichtweisen zu einem bestimmten Thema auszuprobieren\, sich über Fremd- und Eigenwirkung der Übungen auszutauschen\, neue Handlungsmöglichkeiten zu erforschen und die eigene Lebenssituation neu zu bewerten. Darüber hinaus haben die Teilnehmenden die Möglichkeit\, mit anderen in einen persönlichen Erfahrungsaustausch zu kommen.  \nDie Veranstaltung wird durchgeführt von der Selbsthilfegruppe  ABC Online mit Unterstützung des Bundesverband Burnout und Depression e.V. \nWeitere Veranstaltungen sind hier zu finden. \nInformationen zum Krankheitsbild sind hier auf den Seiten des Bundesverbandes zu finden.\n\n\n\nModerator:in\nThomas Grünschläger | Telefon – 0174 71 72 36 | Mail – tg (at) bvbud.de\n 
URL:https://selbsthilfe-burnout-und-depression.de/event/selbsthilfegruppe-abc-online-fokusgruppe-dein-beitrag-zur-burnout-forschung
LOCATION:ABC ONLINE
CATEGORIES:Online
ORGANIZER;CN="Thomas Gr%C3%BCnschl%C3%A4ger":MAILTO:tg (at) bbud.info
END:VEVENT
BEGIN:VEVENT
DTSTART;TZID=Europe/Paris:20241022T190000
DTEND;TZID=Europe/Paris:20241022T211500
DTSTAMP:20260423T161053
CREATED:20240922T210613Z
LAST-MODIFIED:20241020T212705Z
UID:10001341-1729623600-1729631700@selbsthilfe-burnout-und-depression.de
SUMMARY:Selbsthilfegruppe ABC Berlin – Machtmensch – Narzissten
DESCRIPTION:Die Selbsthilfegruppe ABC Berlin findet regelmäßig alle vier Wochen am Dienstag  von 19:00 bis 21:15 in Präsenz im HeileHaus\, Seitenflügel\, 2. OG rechts\, Waldemarstraße 36\, 10999 Berlin Kreuzberg statt. \nThema: Machtmensch – Narzissten\n \nMachtmenschen: Umgang mit Narzissten und anderen Egomanen. Wie kann ich sie erkennen und was kann ich tun? \n\nMit unseren Selbsthilfegruppen tragen wir zur emotionalen Entlastung und gegenseitige Unterstützung bei. Die Teilnehmenden geben sich gegenseitige wertschätzende Lebenshilfe. Durch die Teilnahme wird das Selbstbewusstsein und das Selbstwertgefühl gestärkt. Frühwarnzeichen können rechtzeitig erkannt werden\, das soziale Netz wird durch den Austausch mit den Teilnehmenden gestärkt. Die Selbsthilfegruppen tragen dazu bei\, ein individuelles Krisennetzwerk und einen entsprechenden Krisenplan aufzubauen. Übungen tragen zur erfolgreichen Erweiterung der Strategien im Umgang mit der Erkrankung bei. \nAnmeldung in der Selbsthilfegruppe ABC Berlin\nDu kannst immer ohne Anmeldung kommen. Für die Organisation des Treffens wäre eine Anmeldung hilfreich. \nDas monatliche Burnout-Café ermuntert die Teilnehmenden\, neue Sichtweisen zu einem bestimmten Thema auszuprobieren\, sich über Fremd- und Eigenwirkung der Übungen auszutauschen\, neue Handlungsmöglichkeiten zu erforschen und die eigene Lebenssituation neu zu bewerten. Darüber hinaus haben die Teilnehmenden die Möglichkeit\, mit anderen in einen persönlichen Erfahrungsaustausch zu kommen.  \nDie Veranstaltung wird durchgeführt von der Selbsthilfegruppe  ABC Berlin mit Unterstützung des Bundesverband Burnout und Depression e.V..  \nWeitere Veranstaltungen sind hier zu finden. \nInformationen zum Krankheitsbild sind hier auf den Seiten des Bundesverbandes zu finden. \nModeratorin\n  \nLinda
URL:https://selbsthilfe-burnout-und-depression.de/event/selbsthilfegruppe-abc-berlin-machtmensch-narzissten
LOCATION:ABC Berlin-Kreuzberg\, HeileHaus\, Seitenflügel\, 2.OG\, Berlin Kreuzberg\, Berlin\, 10999
CATEGORIES:Berlin,Präsenz
ORGANIZER;CN="Bundesverband BBuD":MAILTO:info@bbud.info
END:VEVENT
END:VCALENDAR