BEGIN:VCALENDAR
VERSION:2.0
PRODID:-//Selbsthilfe Burnout und Depression - ECPv6.6.3//NONSGML v1.0//EN
CALSCALE:GREGORIAN
METHOD:PUBLISH
X-ORIGINAL-URL:https://selbsthilfe-burnout-und-depression.de
X-WR-CALDESC:Veranstaltungen für Selbsthilfe Burnout und Depression
REFRESH-INTERVAL;VALUE=DURATION:PT1H
X-Robots-Tag:noindex
X-PUBLISHED-TTL:PT1H
BEGIN:VTIMEZONE
TZID:Europe/Paris
BEGIN:DAYLIGHT
TZOFFSETFROM:+0100
TZOFFSETTO:+0200
TZNAME:CEST
DTSTART:20240331T010000
END:DAYLIGHT
BEGIN:STANDARD
TZOFFSETFROM:+0200
TZOFFSETTO:+0100
TZNAME:CET
DTSTART:20241027T010000
END:STANDARD
END:VTIMEZONE
BEGIN:VEVENT
DTSTART;TZID=Europe/Paris:20241101T190000
DTEND;TZID=Europe/Paris:20241101T211500
DTSTAMP:20260423T180845
CREATED:20241006T212719Z
LAST-MODIFIED:20241027T212716Z
UID:10001348-1730487600-1730495700@selbsthilfe-burnout-und-depression.de
SUMMARY:Selbsthilfe ABC Darmstadt – Grenzen erkennen und setzen
DESCRIPTION:Die Selbsthilfegruppe ABC Darmstadt findet regelmäßig am ersten Freitag im Monat von 19:00 bis 21:15 in Präsenz statt. \nDie Selbsthilfegruppe trifft sich im Mehrgenerationenhaus\, Julius-Reiber-Str 22\, 64293 Darmstadt. \nThema: Grenzen erkennen und setzen\n \nViele von Stress und Burnout belastete Menschen berichten\, dass sie über längere Zeit ihre Leistungsgrenzen nicht wahrgenommen haben\, sondern eher selbstverständlich alle Anforderungen von außen erfüllten. Solche permanenten und unreflektierten Grenzüberschreitungen manifestieren sich häufig in physischen oder psychischen Beschwerden. Um dies in Zukunft besser zu machen\, können Menschen lernen\, ihre persönlichen Grenzen zu erkennen und nach außen zu wahren. Gleichzeitig dürfen sie die Grenzen\, die zu dem ungesunden Verhalten führen\, öffnen\, um alternative Verhaltensweisen zu erlernen.\nMit einfachen Übungen erforschen wir an diesem Abend typische Grenzüberschreitungen und typische Grenzziehungen und lernen alternative Umgehensweisen mit diesem Lebensthema kennen.\n  \nMit unseren Selbsthilfegruppen tragen wir zur emotionalen Entlastung und gegenseitige Unterstützung bei. Die Teilnehmenden geben sich gegenseitige wertschätzende Lebenshilfe. Durch die Teilnahme wird das Selbstbewusstsein und das Selbstwertgefühl gestärkt. Frühwarnzeichen können rechtzeitig erkannt werden\, das soziale Netz wird durch den Austausch mit den Teilnehmenden gestärkt. Die Selbsthilfegruppen tragen dazu bei\, ein individuelles Krisennetzwerk und einen entsprechenden Krisenplan aufzubauen. Übungen tragen zur erfolgreichen Erweiterung der Strategien im Umgang mit der Erkrankung bei. \nAnmeldung\nDu kannst immer ohne Anmeldung kommen. Für die Organisation des Treffens wäre eine Anmeldung hilfreich. \nDie Selbsthilfegruppe “Anderes Burnout Café Darmstadt” ermuntert die Teilnehmenden\, neue Sichtweisen zu einem bestimmten Thema auszuprobieren\, sich über Fremd- und Eigenwirkung der Übungen auszutauschen\, neue Handlungsmöglichkeiten zu erforschen und die eigene Lebenssituation neu zu bewerten. Darüber hinaus haben die Teilnehmenden die Möglichkeit\, mit anderen in einen persönlichen Erfahrungsaustausch zu kommen.  \nDie Veranstaltung wird durchgeführt von der Selbsthilfegruppe  ABC Darmstadt mit Unterstützung des Bundesverband Burnout und Depression e.V. \nWeitere Veranstaltungen sind hier zu finden. \nInformationen zum Krankheitsbild sind hier auf den Seiten des Bundesverbandes zu finden. \nModerator\nMarcus Ackermann | 06151 365 06 02 | Darmstadt (at) anderes-burnout-cafe.de
URL:https://selbsthilfe-burnout-und-depression.de/event/selbsthilfe-abc-darmstadt-grenzen-erkennen-und-setzen
LOCATION:ABC Darmstadt\, Julius-Reiber-Str.22\, Darmstadt\, 64293\, Deutschland
CATEGORIES:Darmstadt,Präsenz
ORGANIZER;CN="Marcus Ackermann":MAILTO:darmstadt{at}anderes-burnout-cafe.de
END:VEVENT
END:VCALENDAR