BEGIN:VCALENDAR
VERSION:2.0
PRODID:-//Selbsthilfe Burnout und Depression - ECPv6.6.3//NONSGML v1.0//EN
CALSCALE:GREGORIAN
METHOD:PUBLISH
X-ORIGINAL-URL:https://selbsthilfe-burnout-und-depression.de
X-WR-CALDESC:Veranstaltungen für Selbsthilfe Burnout und Depression
REFRESH-INTERVAL;VALUE=DURATION:PT1H
X-Robots-Tag:noindex
X-PUBLISHED-TTL:PT1H
BEGIN:VTIMEZONE
TZID:Europe/Paris
BEGIN:DAYLIGHT
TZOFFSETFROM:+0100
TZOFFSETTO:+0200
TZNAME:CEST
DTSTART:20250330T010000
END:DAYLIGHT
BEGIN:STANDARD
TZOFFSETFROM:+0200
TZOFFSETTO:+0100
TZNAME:CET
DTSTART:20251026T010000
END:STANDARD
END:VTIMEZONE
BEGIN:VEVENT
DTSTART;TZID=Europe/Paris:20250211T133000
DTEND;TZID=Europe/Paris:20250211T173000
DTSTAMP:20260420T155254
CREATED:20250112T214216Z
LAST-MODIFIED:20250209T214313Z
UID:10001424-1739280600-1739295000@selbsthilfe-burnout-und-depression.de
SUMMARY:Online-Seminar: “Psychische Krisen erkennen und aktiv werden.”\, der Kurs für Alle
DESCRIPTION:Gemeinsam mit dem Arbeitsschutz-Universum lädt der Bundesverband Burnout und Depression e.V. herzlich zum nächsten Online-Seminar “Psychische Krisen erkennen und aktiv werden” ein..”Das Online-Seminar ist das Erste-Hilfe-Seminar zur Sicherstellung einer psychischen “stabilen Seitenlage”. Der Schwerpunkt des Seminars liegt auf “aktiv werden”. Die Teilnehmenden bekommen ihre notwendige Sicherheit\, um handeln zu können. Ein Erste-Hilfe-Kurs ähnlich dem für Führerscheinanwärter. \nAgenda:\n \n\nWas ist eine psychische Krise?\nWoran kann ich erkennen\, dass jemand in einer psychischen Krise ist?\nWie kann ich jemandem helfen\, der in einer psychischen Krise steckt?\nWas kann ich selbst tun\, um psychisch gesund zu bleiben?\n\n \n  \nDas Seminar wird von Dr. Stefanie Schöler und Heike Nordick vom Arbeitsschutz Universum durchgeführt. Das Arbeitsschutz Universum ist Fördermitglied des BBuD e.V. Die Einnahmen aus dem Seminar kommen der sozialen Arbeit des BBuD zu Gute. \n  \n  \nDie Seminargebühr beträgt 50\,00 €. Die Anzahl der Teilnehmenden ist auf 24 begrenzt.  \n50 % der Plätze sind für Mitarbeiter von NGOs\, Non-Profit-Organisationen und Sozialunternehmen reserviert\, die die Gebühren nicht übernehmen können (Nachweis erforderlich)\, sowie für Privatpersonen\, die die Inhalte im ehrenamtlichen Kontext (Nachweis erforderlich) benötigen. Die Vergabe der kostenlosen Plätze erfolgt in der Reihenfolge der Anmeldung. \nBitte beachten Sie\, dass das Seminar nur bei ausreichender Teilnehmerzahl/Anmeldungen durchgeführt wird. Stichtag ist der 24.01.2025\, an dem Sie von uns erfahren werden\, ob das Seminar sicher stattfindet. \n  \nDieses Seminar am 11.2. ist mehr buchbar! \nEin weiterer Kurs findet am Dienstag\, den 18.3.2025 von 9-13 Uhr statt \nDas gesammelte Feedback Teilnehmenden finden Sie immer hier.
URL:https://selbsthilfe-burnout-und-depression.de/event/online-seminar-psychische-krisen-erkennen-und-aktiv-werden-der-kurs-fuer-alle-3
CATEGORIES:Alle Städte,Online
ATTACH;FMTTYPE=image/jpeg:https://selbsthilfe-burnout-und-depression.de/wp-content/uploads/2024/01/BBuD_Logo_Psychische-Krisen-scaled-N2F54z.tmp_.jpg
END:VEVENT
BEGIN:VEVENT
DTSTART;TZID=Europe/Paris:20250211T190000
DTEND;TZID=Europe/Paris:20250211T211500
DTSTAMP:20260420T155254
CREATED:20250112T214216Z
LAST-MODIFIED:20250209T214313Z
UID:10001425-1739300400-1739308500@selbsthilfe-burnout-und-depression.de
SUMMARY:Selbsthilfegruppe ABC Berlin-Kreuzberg – FÄLLT AUS!
DESCRIPTION:Die Selbsthilfegruppe ABC Berlin-Kreuzberg  findet regelmäßig alle vier Wochen am Dienstag  von 19:00 bis 21:15 in Präsenz im HeileHaus\, Seitenflügel\, 2. OG rechts\, Waldemarstraße 36\, 10999 Berlin Kreuzberg statt. \nIm Feburar und März fällt das Gruppentreffen des ABC-Berlin-Kreuzberg aus. Wer möchte\, kann im Februar am Treffen des ABC Berlin-Schöneberg (https://anderes-burnout-cafe.de/veranstaltungen/abc-berlin-schoeneberg-selbstfuersorge) oder des ABC Berlin-Prenzlauer Berg (https://anderes-burnout-cafe.de/veranstaltungen/neu-selbsthilfegruppe-abc-berlin-prenzlauer-berg) teilnehmen. \nThema:\n \n\nMit unseren Selbsthilfegruppen tragen wir zur emotionalen Entlastung und gegenseitige Unterstützung bei. Die Teilnehmenden geben sich gegenseitige wertschätzende Lebenshilfe. Durch die Teilnahme wird das Selbstbewusstsein und das Selbstwertgefühl gestärkt. Frühwarnzeichen können rechtzeitig erkannt werden\, das soziale Netz wird durch den Austausch mit den Teilnehmenden gestärkt. Die Selbsthilfegruppen tragen dazu bei\, ein individuelles Krisennetzwerk und einen entsprechenden Krisenplan aufzubauen. Übungen tragen zur erfolgreichen Erweiterung der Strategien im Umgang mit der Erkrankung bei. \nAnmeldung in der Selbsthilfegruppe ABC Berlin-Kreuzberg\nDu kannst immer ohne Anmeldung kommen. Für die Organisation des Treffens wäre eine Anmeldung hilfreich. \nDas monatliche Burnout-Café ermuntert die Teilnehmenden\, neue Sichtweisen zu einem bestimmten Thema auszuprobieren\, sich über Fremd- und Eigenwirkung der Übungen auszutauschen\, neue Handlungsmöglichkeiten zu erforschen und die eigene Lebenssituation neu zu bewerten. Darüber hinaus haben die Teilnehmenden die Möglichkeit\, mit anderen in einen persönlichen Erfahrungsaustausch zu kommen.  \nDie Veranstaltung wird durchgeführt von der Selbsthilfegruppe  ABC Berlin-Kreuzberg mit Unterstützung des Bundesverband Burnout und Depression e.V..  \nWeitere Veranstaltungen sind hier zu finden. \nInformationen zum Krankheitsbild sind hier auf den Seiten des Bundesverbandes zu finden. \nModeratorin\nLinda
URL:https://selbsthilfe-burnout-und-depression.de/event/selbsthilfegruppe-abc-berlin-kreuzberg-faulheit-oder-noetige-ruhe
LOCATION:ABC Berlin-Kreuzberg\, HeileHaus\, Seitenflügel\, 2.OG\, Berlin Kreuzberg\, Berlin\, 10999
CATEGORIES:Berlin-Kreuzberg,Präsenz
ORGANIZER;CN="Bundesverband BBuD":MAILTO:info@bbud.info
END:VEVENT
END:VCALENDAR