BEGIN:VCALENDAR
VERSION:2.0
PRODID:-//Selbsthilfe Burnout und Depression - ECPv6.6.3//NONSGML v1.0//EN
CALSCALE:GREGORIAN
METHOD:PUBLISH
X-ORIGINAL-URL:https://selbsthilfe-burnout-und-depression.de
X-WR-CALDESC:Veranstaltungen für Selbsthilfe Burnout und Depression
REFRESH-INTERVAL;VALUE=DURATION:PT1H
X-Robots-Tag:noindex
X-PUBLISHED-TTL:PT1H
BEGIN:VTIMEZONE
TZID:Europe/Paris
BEGIN:DAYLIGHT
TZOFFSETFROM:+0100
TZOFFSETTO:+0200
TZNAME:CEST
DTSTART:20250330T010000
END:DAYLIGHT
BEGIN:STANDARD
TZOFFSETFROM:+0200
TZOFFSETTO:+0100
TZNAME:CET
DTSTART:20251026T010000
END:STANDARD
END:VTIMEZONE
BEGIN:VEVENT
DTSTART;TZID=Europe/Paris:20250214T100000
DTEND;TZID=Europe/Paris:20250214T120000
DTSTAMP:20260424T125759
CREATED:20250119T214239Z
LAST-MODIFIED:20250209T214313Z
UID:10001430-1739527200-1739534400@selbsthilfe-burnout-und-depression.de
SUMMARY:Selbsthilfegruppe ABC Neuss – „Selbstzweifel“ – FÄLLT LEIDER AUS!
DESCRIPTION:Die Selbsthilfegruppe ABC Neuss muss im Februar leider nochmals krankheitsbedingt entfallen. Das tut uns sehr leid! \nDie Selbsthilfegruppe ABC Neuss findet immer am 3. Freitag im Monat von 10:00 bis 12:00 Uhr statt. Wir treffen uns in Präsenz im Selbsthilfe-Büro von PariSozial in der Oberstr. 21 in 41460 Neuss.\n \nThema: „Selbstzweifel“\n \nSelbst – wirksam / Selbst – steuern\, raus aus der Opferfalle!\nErtappen Sie sich mitunter dabei\, dass Sie sich als Opfer der Umstände\, der Firma\, des Zeitdrucks\, der Vergangenheit\, … fühlen? Es läuft etwas nicht so\, wie Sie es sich vorstellen und dann ist natürlich „der Andere“ oder „das System“ schuld? Sie treffen Entscheidungen nicht\, weil Sie sich sofort ausmalen\, was alles nicht funktioniert und wer Ihnen Steine in den Weg legt?\nOft fühlen wir uns als Opfer und vergessen dabei\, dass jedes Verhalten einen Preis und einen Gewinn hat. Wir vergessen auch\, dass wir unser Verhalten selbst steuern können. Sie erhalten bei uns Übungen zum Überdenken der Opfersituationen und wie Sie damit selbstverantwortlich die für sich besten Entscheidungen treffen können.\n\nMit unseren Selbsthilfegruppen tragen wir zur emotionalen Entlastung und gegenseitige Unterstützung bei. Die Teilnehmenden geben sich gegenseitige wertschätzende Lebenshilfe. Durch die Teilnahme wird das Selbstbewusstsein und das Selbstwertgefühl gestärkt. Frühwarnzeichen können rechtzeitig erkannt werden\, das soziale Netz wird durch den Austausch mit den Teilnehmenden gestärkt. Die Selbsthilfegruppen tragen dazu bei\, ein individuelles Krisennetzwerk und einen entsprechenden Krisenplan aufzubauen. Übungen tragen zur erfolgreichen Erweiterung der Strategien im Umgang mit der Erkrankung bei. Kamile \nAnmeldung\nDu kannst immer ohne Anmeldung kommen. Für die Organisation des Treffens wäre eine Anmeldung hilfreich. \nDie monatliche Selbsthilfegruppe Anderes Burnout-Café ermuntert die Teilnehmenden\, neue Sichtweisen zu einem bestimmten Thema auszuprobieren\, sich über Fremd- und Eigenwirkung der Übungen auszutauschen\, neue Handlungsmöglichkeiten zu erforschen und die eigene Lebenssituation neu zu bewerten. Darüber hinaus haben die Teilnehmenden die Möglichkeit\, mit anderen in einen persönlichen Erfahrungsaustausch zu kommen.  \nDie Veranstaltung wird durchgeführt von der Selbsthilfegruppe  ABC Neuss mit Unterstützung des Bundesverband Burnout und Depression e.V..  \nWeitere Veranstaltungen sind hier zu finden. \nInformationen zum Krankheitsbild sind hier auf den Seiten des Bundesverbandes zu finden. \nModeratorin\nKamile
URL:https://selbsthilfe-burnout-und-depression.de/event/selbsthilfegruppe-abc-neuss-selbstzweifel
LOCATION:ABC Neuss\, Oberstraße 21\, Neuss\, 41460\, Deutschland
CATEGORIES:Neuss,Präsenz
ORGANIZER;CN="ABC Neuss":MAILTO:neuss{at}anderes-burnout-cafe.de
END:VEVENT
END:VCALENDAR