BEGIN:VCALENDAR
VERSION:2.0
PRODID:-//Selbsthilfe Burnout und Depression - ECPv6.6.3//NONSGML v1.0//EN
CALSCALE:GREGORIAN
METHOD:PUBLISH
X-ORIGINAL-URL:https://selbsthilfe-burnout-und-depression.de
X-WR-CALDESC:Veranstaltungen für Selbsthilfe Burnout und Depression
REFRESH-INTERVAL;VALUE=DURATION:PT1H
X-Robots-Tag:noindex
X-PUBLISHED-TTL:PT1H
BEGIN:VTIMEZONE
TZID:Europe/Paris
BEGIN:DAYLIGHT
TZOFFSETFROM:+0100
TZOFFSETTO:+0200
TZNAME:CEST
DTSTART:20250330T010000
END:DAYLIGHT
BEGIN:STANDARD
TZOFFSETFROM:+0200
TZOFFSETTO:+0100
TZNAME:CET
DTSTART:20251026T010000
END:STANDARD
END:VTIMEZONE
BEGIN:VEVENT
DTSTART;TZID=Europe/Paris:20250706T180000
DTEND;TZID=Europe/Paris:20250706T200000
DTSTAMP:20260425T035501
CREATED:20250608T222726Z
LAST-MODIFIED:20250706T224225Z
UID:10001542-1751824800-1751832000@selbsthilfe-burnout-und-depression.de
SUMMARY:Selbsthilfegruppe ABC Berlin Prenzlauer Berg – Gefühle – verstehen\, erkennen und damit umgehen
DESCRIPTION:Die Selbsthilfegruppe ABC Berlin Prenzlauer Berg findet in der Regel am ersten Sonntag im Monat von 15:00 bis 17:00 statt. Wir treffen uns im Stadtteilzentrum Prenzlauer Berg\, Raum Galerie\, Fehrbelliner Str. 92\, 10119 Berlin. Heute beginnt unser Treffen ausnahmsweise erst um 18:00 Uhr. \n  \nThema: Gefühle – verstehen\, erkennen und damit umgehen\n \nEgal ob als Betroffener oder als Außenstehender: Wenn wir mit heftigen Emotionen konfrontiert werden\, fühlen wir uns schnell macht- und hilflos. Was kann ich tun\, um mir entweder selbst zu helfen oder einem anderen in der Situation Hilfe zu leisten? Wie werde ich wieder reaktionsfähig?… In unserer Veranstaltung dazu gibt es wie immer interessante Übungen und Hinweise\, die sich im Alltag leicht umsetzen lassen.\n  \nMit unseren Selbsthilfegruppen tragen wir zur emotionalen Entlastung und gegenseitige Unterstützung bei. Die Teilnehmenden geben sich gegenseitige wertschätzende Lebenshilfe. Durch die Teilnahme wird das Selbstbewusstsein und das Selbstwertgefühl gestärkt. Frühwarnzeichen können rechtzeitig erkannt werden\, das soziale Netz wird durch den Austausch mit den Teilnehmenden gestärkt. Die Selbsthilfegruppen tragen dazu bei\, ein individuelles Krisennetzwerk und einen entsprechenden Krisenplan aufzubauen. Übungen tragen zur erfolgreichen Erweiterung der Strategien im Umgang mit der Erkrankung bei. \nAnmeldung\nDu kannst immer ohne Anmeldung kommen. Für die Organisation des Treffens wäre eine Anmeldung hilfreich. \nDie  monatliche Selbsthilfegruppe ermuntert die Teilnehmenden\, neue Sichtweisen zu einem bestimmten Thema auszuprobieren\, sich über Fremd- und Eigenwirkung der Übungen auszutauschen\, neue Handlungsmöglichkeiten zu erforschen und die eigene Lebenssituation neu zu bewerten. Darüber hinaus haben die Teilnehmenden die Möglichkeit\, mit anderen in einen persönlichen Erfahrungsaustausch zu kommen.  \nDie Veranstaltung wird durchgeführt von der Selbsthilfegruppe  ABC Berlin Prenzlauer Berg mit Unterstützung des Bundesverband Burnout und Depression e.V. Weitere Veranstaltungen sind hier zu finden. \nInformationen zum Krankheitsbild sind hier auf den Seiten des Bundesverbandes zu finden. \nModeratorin\nTanja
URL:https://selbsthilfe-burnout-und-depression.de/event/selbsthilfegruppe-abc-berlin-prenzlauer-berg-gefuehle-verstehen-erkennen-und-damit-umgehen
LOCATION:ABC Berlin Prenzlauer Berg\, Stadtteilzentrum Prenzlauer Berg\, Fehrbelliner Str. 92\, Berlin\, 10119
CATEGORIES:Berlin Prenzlauer Berg,Präsenz
ORGANIZER;CN="ABC Berlin Prenzlauer Berg":MAILTO:berlin_prenzlauerberg@anderes-burnout-cafe.de
END:VEVENT
END:VCALENDAR