BEGIN:VCALENDAR
VERSION:2.0
PRODID:-//Selbsthilfe Burnout und Depression - ECPv6.6.3//NONSGML v1.0//EN
CALSCALE:GREGORIAN
METHOD:PUBLISH
X-WR-CALNAME:Selbsthilfe Burnout und Depression
X-ORIGINAL-URL:https://selbsthilfe-burnout-und-depression.de
X-WR-CALDESC:Veranstaltungen für Selbsthilfe Burnout und Depression
REFRESH-INTERVAL;VALUE=DURATION:PT1H
X-Robots-Tag:noindex
X-PUBLISHED-TTL:PT1H
BEGIN:VTIMEZONE
TZID:Europe/Paris
BEGIN:DAYLIGHT
TZOFFSETFROM:+0100
TZOFFSETTO:+0200
TZNAME:CEST
DTSTART:20250330T010000
END:DAYLIGHT
BEGIN:STANDARD
TZOFFSETFROM:+0200
TZOFFSETTO:+0100
TZNAME:CET
DTSTART:20251026T010000
END:STANDARD
END:VTIMEZONE
BEGIN:VEVENT
DTSTART;TZID=Europe/Paris:20250715T180000
DTEND;TZID=Europe/Paris:20250715T200000
DTSTAMP:20260425T060821
CREATED:20250615T222722Z
LAST-MODIFIED:20250713T225721Z
UID:10001547-1752602400-1752609600@selbsthilfe-burnout-und-depression.de
SUMMARY:Selbsthilfegruppe ABC Königswinter – Selbstzweifel wahrnehmen und sie verstehen
DESCRIPTION:Die Selbsthilfegruppe ABC Königswinter trifft sich regelmäßig an jedem dritten Dienstag im Monat von 18:00 bis 20:00 im Foyer des Sea-Life-Center\, Rheinallee 8 in 53639 Königswinter.  \nThema: Selbstzweifel wahrnehmen und sie verstehen\n \n\nSelbst – wirksam / Selbst – steuern\, raus aus der Opferfalle!\nErtappen Sie sich mitunter dabei\, dass Sie sich als Opfer der Umstände\, der Firma\, des Zeitdrucks\, der Vergangenheit\, … fühlen? Es läuft etwas nicht so\, wie Sie es sich vorstellen und dann ist natürlich „der Andere“ oder „das System“ schuld? Sie treffen Entscheidungen nicht\, weil Sie sich sofort ausmalen\, was alles nicht funktioniert und wer Ihnen Steine in den Weg legt? Oft fühlen wir uns als Opfer und vergessen dabei\, dass jedes Verhalten einen Preis und einen Gewinn hat. Wir vergessen auch\, dass wir unser Verhalten selbst steuern können. Sie erhalten bei uns Übungen zum Überdenken der Opfersituationen und wie Sie damit selbstverantwortlich die für sich besten Entscheidungen treffen können.\n\n\nMit unseren Selbsthilfegruppen tragen wir zur emotionalen Entlastung und gegenseitige Unterstützung bei. Die Teilnehmenden geben sich gegenseitige wertschätzende Lebenshilfe. Durch die Teilnahme wird das Selbstbewusstsein und das Selbstwertgefühl gestärkt. Frühwarnzeichen können rechtzeitig erkannt werden\, das soziale Netz wird durch den Austausch mit den Teilnehmenden gestärkt. Die Selbsthilfegruppen tragen dazu bei\, ein individuelles Krisennetzwerk und einen entsprechenden Krisenplan aufzubauen. Übungen tragen zur erfolgreichen Erweiterung der Strategien im Umgang mit der Erkrankung bei. Kamile \nAnmeldung\nDu kannst immer ohne Anmeldung kommen. Für die Organisation des Treffens wäre eine Anmeldung hilfreich. \nDie monatliche Selbsthilfegruppe Anderes Burnout-Café ermuntert die Teilnehmenden\, neue Sichtweisen zu einem bestimmten Thema auszuprobieren\, sich über Fremd- und Eigenwirkung der Übungen auszutauschen\, neue Handlungsmöglichkeiten zu erforschen und die eigene Lebenssituation neu zu bewerten. Darüber hinaus haben die Teilnehmenden die Möglichkeit\, mit anderen in einen persönlichen Erfahrungsaustausch zu kommen.  \nDie Veranstaltung wird durchgeführt von der Selbsthilfegruppe  ABC Königswinter mit Unterstützung des Bundesverband Burnout und Depression e.V..  \nWeitere Veranstaltungen sind hier zu finden. \nInformationen zum Krankheitsbild sind hier auf den Seiten des Bundesverbandes zu finden. \nModeratorin\nElisabeth
URL:https://selbsthilfe-burnout-und-depression.de/event/selbsthilfegruppe-abc-koenigswinter-selbstzweifel-wahrnehmen-und-sie-verstehen
LOCATION:ABC-Königswinter\, Foyer Sea-Life-Center\, Königswinter\, 53639
CATEGORIES:Königswinter,Präsenz
END:VEVENT
BEGIN:VEVENT
DTSTART;TZID=Europe/Paris:20250715T190000
DTEND;TZID=Europe/Paris:20250715T211500
DTSTAMP:20260425T060821
CREATED:20250615T222723Z
LAST-MODIFIED:20250713T225721Z
UID:10001548-1752606000-1752614100@selbsthilfe-burnout-und-depression.de
SUMMARY:Selbsthilfegruppe ABC Bad Soden-Salmünster – Selbstmotivation – FÄLLT LEIDER AUS!
DESCRIPTION:Die Selbsthilfegruppe ABC Bad Soden-Salmünster findet regelmäßig am dritten Dienstag im Monat im Generationentreff BS-Salmünster\, Frankfurter Str. 58 statt. \nThema: Selbstmotivation\n \n\nWarum fällt es uns oftmals schwer\, vermeintlich wichtige Dinge zu erledigen? Warum haben manche Menschen augenscheinlich immer Erfolg und andere nicht? Was steckt dahinter\, wenn die Selbst-Motivation fehlt? In heutigen Burnout-Café kümmern wir uns um die Faktoren\, die für fehlende Selbstmotivation sorgen und wir werden klären\, was es braucht\, um sich selbst zu motivieren…\n\n  \nMit unseren Selbsthilfegruppen tragen wir zur emotionalen Entlastung und gegenseitige Unterstützung bei. Die Teilnehmenden geben sich gegenseitige wertschätzende Lebenshilfe. Durch die Teilnahme wird das Selbstbewusstsein und das Selbstwertgefühl gestärkt. Frühwarnzeichen können rechtzeitig erkannt werden\, das soziale Netz wird durch den Austausch mit den Teilnehmenden gestärkt. Die Selbsthilfegruppen tragen dazu bei\, ein individuelles Krisennetzwerk und einen entsprechenden Krisenplan aufzubauen. Übungen tragen zur erfolgreichen Erweiterung der Strategien im Umgang mit der Erkrankung bei. \nAnmeldung\nDu kannst immer ohne Anmeldung kommen. Für die Organisation des Treffens wäre eine Anmeldung hilfreich. \nDie  monatliche Selbsthilfegruppe ermuntert die Teilnehmenden\, neue Sichtweisen zu einem bestimmten Thema auszuprobieren\, sich über Fremd- und Eigenwirkung der Übungen auszutauschen\, neue Handlungsmöglichkeiten zu erforschen und die eigene Lebenssituation neu zu bewerten. Darüber hinaus haben die Teilnehmenden die Möglichkeit\, mit anderen in einen persönlichen Erfahrungsaustausch zu kommen.  \nDie Veranstaltung wird durchgeführt von der Selbsthilfegruppe  ABC Bad Soden-Salmünster mit Unterstützung des Bundesverband Burnout und Depression e.V. und durch die Pauschalförderung der Selbsthilfegruppen nach  SGB V\, §20h.  \nWeitere Veranstaltungen sind hier zu finden. \nInformationen zum Krankheitsbild sind hier auf den Seiten des Bundesverbandes zu finden. \nModeratorinnen\nBarbara und Sandra \nv.l.n.r.: Barbara Weiß | 0157 52128559 und Sandra Mandl | 0157 71072502 | bss (at) anderes-burnout-cafe.de
URL:https://selbsthilfe-burnout-und-depression.de/event/selbsthilfegruppe-abc-bad-soden-salmuenster-selbstmotivation
LOCATION:ABC Bad Soden-Salmünster\, Frankfurter Str. 58\, Bad Soden-Salmünster\, 63628\, Deutschland
CATEGORIES:Bad Soden-Salmünster,Präsenz
ORGANIZER;CN="Barbara Weiss":MAILTO:bss{at}anderes-burnout-cafe.de
END:VEVENT
END:VCALENDAR