BEGIN:VCALENDAR
VERSION:2.0
PRODID:-//Selbsthilfe Burnout und Depression - ECPv6.6.3//NONSGML v1.0//EN
CALSCALE:GREGORIAN
METHOD:PUBLISH
X-WR-CALNAME:Selbsthilfe Burnout und Depression
X-ORIGINAL-URL:https://selbsthilfe-burnout-und-depression.de
X-WR-CALDESC:Veranstaltungen für Selbsthilfe Burnout und Depression
REFRESH-INTERVAL;VALUE=DURATION:PT1H
X-Robots-Tag:noindex
X-PUBLISHED-TTL:PT1H
BEGIN:VTIMEZONE
TZID:Europe/Paris
BEGIN:DAYLIGHT
TZOFFSETFROM:+0100
TZOFFSETTO:+0200
TZNAME:CEST
DTSTART:20250330T010000
END:DAYLIGHT
BEGIN:STANDARD
TZOFFSETFROM:+0200
TZOFFSETTO:+0100
TZNAME:CET
DTSTART:20251026T010000
END:STANDARD
END:VTIMEZONE
BEGIN:VEVENT
DTSTART;TZID=Europe/Paris:20251214T103000
DTEND;TZID=Europe/Paris:20251214T123000
DTSTAMP:20260424T215155
CREATED:20251119T112728Z
LAST-MODIFIED:20251210T112723Z
UID:10001690-1765708200-1765715400@selbsthilfe-burnout-und-depression.de
SUMMARY:Selbsthilfegruppe ABC Berlin Pankow – Konflikte lösen
DESCRIPTION:Die Selbsthilfegruppe ABC Berlin Pankow trifft sich im Dezember ausnahmsweise an einem abweichenden Ort:  \nGemeinschaftspraxis\, Hans-Otto-Str. 3\, 10407 Berlin\, Klingel unten links \nThema: Konflikte lösen\n \n\n\nManchmal entstehen Konflikte sehr plötzlich\, wie aus dem Nichts\, und manchmal schwelen Konflikte längere Zeit vor sich hin\, ohne gelöst zu werden. Konflikte lösen geht leicht\, wenn wir nicht innerlich betroffen sind und souverän und gelassen agieren können. Wenn aber Gefühle wie Wut\, Traurigkeit\, Verletzung etc. beteiligt sind\, ist dies fast immer ein Hinweis darauf\, dass unsere innersten Gewissheiten (Glaubenssätze) und tief eingefahrene Verhaltensmuster betroffen sind. Immer wenn es “weh tut”\, lohnt sich ein Blick in die eigene Vergangenheit und die daraus entstandenen Mechanismen. Das Thema “Konflikte” könnte demzufolge auch Muster und Glaubenssätze heißen\, weil beide Themen so eng verwoben sind.\n\n\n\nMit unseren Selbsthilfegruppen tragen wir zur emotionalen Entlastung und gegenseitige Unterstützung bei. Die Teilnehmenden geben sich gegenseitige wertschätzende Lebenshilfe. Durch die Teilnahme wird das Selbstbewusstsein und das Selbstwertgefühl gestärkt. Frühwarnzeichen können rechtzeitig erkannt werden\, das soziale Netz wird durch den Austausch mit den Teilnehmenden gestärkt. Die Selbsthilfegruppen tragen dazu bei\, ein individuelles Krisennetzwerk und einen entsprechenden Krisenplan aufzubauen. Übungen tragen zur erfolgreichen Erweiterung der Strategien im Umgang mit der Erkrankung bei. \nAnmeldung\nDu kannst immer ohne Anmeldung kommen. Für die Organisation des Treffens wäre eine Anmeldung hilfreich. \nDie monatliche Selbsthilfegruppe Anderes Burnout-Café ermuntert die Teilnehmenden\, neue Sichtweisen zu einem bestimmten Thema auszuprobieren\, sich über Fremd- und Eigenwirkung der Übungen auszutauschen\, neue Handlungsmöglichkeiten zu erforschen und die eigene Lebenssituation neu zu bewerten. Darüber hinaus haben die Teilnehmenden die Möglichkeit\, mit anderen in einen persönlichen Erfahrungsaustausch zu kommen.  \nDie Veranstaltung wird durchgeführt von der Selbsthilfegruppe  ABC Berlin Pankow mit Unterstützung des Bundesverband Burnout und Depression e.V..  \nWeitere Veranstaltungen sind hier zu finden. \nInformationen zum Krankheitsbild sind hier auf den Seiten des Bundesverbandes zu finden. \nModeratorin\nIsabel
URL:https://selbsthilfe-burnout-und-depression.de/event/selbsthilfegruppe-abc-berlin-pankow-konflikte-loesen
LOCATION:ABC Berlin Pankow\, KIS Pankow Schönholzer Str. 10\, Berlin\, 13187
CATEGORIES:ABC Berlin Pankow,Präsenz
ORGANIZER;CN="Bundesverband BBuD":MAILTO:info@bbud.info
END:VEVENT
BEGIN:VEVENT
DTSTART;TZID=Europe/Paris:20251214T170000
DTEND;TZID=Europe/Paris:20251214T190000
DTSTAMP:20260424T215155
CREATED:20251119T112729Z
LAST-MODIFIED:20251210T112723Z
UID:10001691-1765731600-1765738800@selbsthilfe-burnout-und-depression.de
SUMMARY:Selbsthilfegruppe ABC Berlin Prenzlauer Berg – Vom Funktionieren zum Leben – Lebensqualität gestalten
DESCRIPTION:Die Selbsthilfegruppe ABC Berlin Prenzlauer Berg findet in diesem Monat am 2. Sonntag im Monat von 17:00 – 19:00 Uhr statt. Wir treffen uns im Stadtteilzentrum Prenzlauer Berg\, \nDieses Mal in der Gemeinschaftspraxis\, Hans Otto Straße 3\, 10407 Berlin\n\n \n  \nThema: Vom Funktionieren zum Leben – Lebensqualität gestalten \n \n\n\n\n  \nMit unseren Selbsthilfegruppen tragen wir zur emotionalen Entlastung und gegenseitige Unterstützung bei. Die Teilnehmenden geben sich gegenseitige wertschätzende Lebenshilfe. Durch die Teilnahme wird das Selbstbewusstsein und das Selbstwertgefühl gestärkt. Frühwarnzeichen können rechtzeitig erkannt werden\, das soziale Netz wird durch den Austausch mit den Teilnehmenden gestärkt. Die Selbsthilfegruppen tragen dazu bei\, ein individuelles Krisennetzwerk und einen entsprechenden Krisenplan aufzubauen. Übungen tragen zur erfolgreichen Erweiterung der Strategien im Umgang mit der Erkrankung bei. \nAnmeldung\nDu kannst immer ohne Anmeldung kommen. Für die Organisation des Treffens wäre eine Anmeldung hilfreich. \nDie  monatliche Selbsthilfegruppe ermuntert die Teilnehmenden\, neue Sichtweisen zu einem bestimmten Thema auszuprobieren\, sich über Fremd- und Eigenwirkung der Übungen auszutauschen\, neue Handlungsmöglichkeiten zu erforschen und die eigene Lebenssituation neu zu bewerten. Darüber hinaus haben die Teilnehmenden die Möglichkeit\, mit anderen in einen persönlichen Erfahrungsaustausch zu kommen.  \nDie Veranstaltung wird durchgeführt von der Selbsthilfegruppe  ABC Berlin Prenzlauer Berg mit Unterstützung des Bundesverband Burnout und Depression e.V. Weitere Veranstaltungen sind hier zu finden. \nInformationen zum Krankheitsbild sind hier auf den Seiten des Bundesverbandes zu finden. \nModeratorin\nTanja
URL:https://selbsthilfe-burnout-und-depression.de/event/selbsthilfegruppe-abc-berlin-prenzlauer-berg-vom-funktionieren-zum-leben-lebensqualitaet-gestalten
LOCATION:ABC Berlin Prenzlauer Berg\, Stadtteilzentrum Prenzlauer Berg\, Fehrbelliner Str. 92\, Berlin\, 10119
CATEGORIES:Berlin Prenzlauer Berg,Präsenz
ORGANIZER;CN="ABC Berlin Prenzlauer Berg":MAILTO:berlin_prenzlauerberg@anderes-burnout-cafe.de
END:VEVENT
END:VCALENDAR