BEGIN:VCALENDAR
VERSION:2.0
PRODID:-//Selbsthilfe Burnout und Depression - ECPv6.6.3//NONSGML v1.0//EN
CALSCALE:GREGORIAN
METHOD:PUBLISH
X-WR-CALNAME:Selbsthilfe Burnout und Depression
X-ORIGINAL-URL:https://selbsthilfe-burnout-und-depression.de
X-WR-CALDESC:Veranstaltungen für Selbsthilfe Burnout und Depression
REFRESH-INTERVAL;VALUE=DURATION:PT1H
X-Robots-Tag:noindex
X-PUBLISHED-TTL:PT1H
BEGIN:VTIMEZONE
TZID:Europe/Paris
BEGIN:DAYLIGHT
TZOFFSETFROM:+0100
TZOFFSETTO:+0200
TZNAME:CEST
DTSTART:20260329T010000
END:DAYLIGHT
BEGIN:STANDARD
TZOFFSETFROM:+0200
TZOFFSETTO:+0100
TZNAME:CET
DTSTART:20261025T010000
END:STANDARD
END:VTIMEZONE
BEGIN:VEVENT
DTSTART;TZID=Europe/Paris:20260225T190000
DTEND;TZID=Europe/Paris:20260225T211500
DTSTAMP:20260421T101306
CREATED:20260128T114242Z
LAST-MODIFIED:20260225T121212Z
UID:10001769-1772046000-1772054100@selbsthilfe-burnout-und-depression.de
SUMMARY:Selbsthilfegruppe ABC Nürnberg – Prokrastination – Theorie
DESCRIPTION:Die Selbsthilfegruppe ABC Nürnberg findet regelmäßig am letzten Mittwoch im Monat von 19:00 bis 21:15 in Präsenz statt.\nVilla Leon – 1. OG – Kleiner Saal\, Philipp-Koerber.Weg 1\, 90439 Nürnberg statt. \n\nThema: Prokrastination – Theorie\n\n \n\n\nManchmal werden Dinge nicht angefangen bzw. nicht erledigt. Stattdessen werden andere Dinge flugs erledigt. 98% der Menschen\, die an einer Studie der Uni Münster teilgenommen haben\, bestätigen das\, manche leiden darunter. Warum ist das so? Was steckt dahinter? Mangelnde Selbstmotivation? Fehlendes Organisationstalent? Im nächsten Burnout-Café widmen wir uns diesen Fragen.\n\n\n\nMit unseren Selbsthilfegruppen tragen wir zur emotionalen Entlastung und gegenseitige Unterstützung bei. Die Teilnehmenden geben sich gegenseitige wertschätzende Lebenshilfe. Durch die Teilnahme wird das Selbstbewusstsein und das Selbstwertgefühl gestärkt. Frühwarnzeichen können rechtzeitig erkannt werden\, das soziale Netz wird durch den Austausch mit den Teilnehmenden gestärkt. Die Selbsthilfegruppen tragen dazu bei\, ein individuelles Krisennetzwerk und einen entsprechenden Krisenplan aufzubauen. Übungen tragen zur erfolgreichen Erweiterung der Strategien im Umgang mit der Erkrankung bei. \nAnmeldung in der Selbsthilfegruppe ABC Nürnberg\nDu kannst immer ohne Anmeldung kommen. Für die Organisation des Treffens wäre eine Anmeldung hilfreich. \nDas monatliche Burnout-Café ermuntert die Teilnehmenden\, neue Sichtweisen zu einem bestimmten Thema auszuprobieren\, sich über Fremd- und Eigenwirkung der Übungen auszutauschen\, neue Handlungsmöglichkeiten zu erforschen und die eigene Lebenssituation neu zu bewerten. Darüber hinaus haben die Teilnehmenden die Möglichkeit\, mit anderen in einen persönlichen Erfahrungsaustausch zu kommen.  \nDie Veranstaltung wird durchgeführt von der Selbsthilfegruppe  ABC Nürnberg mit Unterstützung des Bundesverband Burnout und Depression e.V..  \nWeitere Veranstaltungen sind hier zu finden. \nInformationen zum Krankheitsbild sind hier auf den Seiten des Bundesverbandes zu finden. \nModeratorinnen\nAlena und Blanca
URL:https://selbsthilfe-burnout-und-depression.de/event/selbsthilfegruppe-abc-nuernberg-prokrastination-theorie
LOCATION:ABC Nürnberg\, Philipp-Koerber-Weg 1\, Nürnberg\, 90439\, Deutschland
CATEGORIES:Alle Städte,Nürnberg,Präsenz
ORGANIZER;CN="Alena":MAILTO:nuernberg{at}anderes-burnout-cafe.de
END:VEVENT
END:VCALENDAR