BEGIN:VCALENDAR
VERSION:2.0
PRODID:-//Selbsthilfe Burnout und Depression - ECPv6.6.3//NONSGML v1.0//EN
CALSCALE:GREGORIAN
METHOD:PUBLISH
X-WR-CALNAME:Selbsthilfe Burnout und Depression
X-ORIGINAL-URL:https://selbsthilfe-burnout-und-depression.de
X-WR-CALDESC:Veranstaltungen für Selbsthilfe Burnout und Depression
REFRESH-INTERVAL;VALUE=DURATION:PT1H
X-Robots-Tag:noindex
X-PUBLISHED-TTL:PT1H
BEGIN:VTIMEZONE
TZID:Europe/Paris
BEGIN:DAYLIGHT
TZOFFSETFROM:+0100
TZOFFSETTO:+0200
TZNAME:CEST
DTSTART:20260329T010000
END:DAYLIGHT
BEGIN:STANDARD
TZOFFSETFROM:+0200
TZOFFSETTO:+0100
TZNAME:CET
DTSTART:20261025T010000
END:STANDARD
END:VTIMEZONE
BEGIN:VEVENT
DTSTART;TZID=Europe/Paris:20260310T190000
DTEND;TZID=Europe/Paris:20260310T210000
DTSTAMP:20260421T120006
CREATED:20260211T114312Z
LAST-MODIFIED:20260304T121215Z
UID:10001784-1773169200-1773176400@selbsthilfe-burnout-und-depression.de
SUMMARY:Selbsthilfegruppe ABC Online am Dienstag – Mobbing
DESCRIPTION:Die Selbsthilfegruppe ABC Online am Dienstag trifft sich in der Regel jeden zweiten Dienstag im Monat von 19:00 bis 21:00 online via Zoom.  \nDie Einwahl ist:  https://us02web.zoom.us/j/805791047 \nDie Einwahl in die Selbsthilfegruppe ABC Online am Dienstag ist immer 10 Minuten vor dem offiziellen Beginn möglich und sinnvoll. Dies dient zum Ankommen\, Austausch untereinander oder auch dazu\, technische Schwierigkeiten vor Beginn zu beseitigen. Wir legen Wert darauf\, dass jeder mit Bild und Ton an der Veranstaltung teilnimmt. Nur so kann ein vertrauensvoller Austausch untereinander stattfinden. Bitte testet vorher bei der Einwahl Eure Kamera und das Audio. Weitergehende Unterstützung zu ZOOM findet ihr hier. \nNach der offiziellen Startzeit ist keine Einwahl mehr möglich\, denn dies ist Online noch störender als in Präsenzveranstaltungen. Danke für Euer Verständnis. Wir freuen uns auf Euch! \nThema: Mobbing\n \n\nDas Andere Burnout Café widmet sich dieses Mal dem komplexen Thema Mobbing. Da viele Betroffene ihre Probleme aus Scham und Unsicherheit nicht thematisieren\, steht die Veranstaltung unter Dramatiker Bertolt Brechts Motto „Die im Dunkeln sieht man nicht!“. Was hinter dem Begriff steckt\, wann man von „Mobbing“ spricht und wie sich Betroffene erfolgreich zur Wehr setzen können\, erklären die Moderatoren. Zusätzliche praktische Übungen helfen den Teilnehmenden darüber hinaus\, wertvolle Erkenntnisse und erste Lösungsansätze für den Alltag mitzunehmen.\n\n\n\n\nMit unseren Selbsthilfegruppen tragen wir zur emotionalen Entlastung und gegenseitige Unterstützung bei. Die Teilnehmenden geben sich gegenseitige wertschätzende Lebenshilfe. Durch die Teilnahme wird das Selbstbewusstsein und das Selbstwertgefühl gestärkt. Frühwarnzeichen können rechtzeitig erkannt werden\, das soziale Netz wird durch den Austausch mit den Teilnehmenden gestärkt. Die Selbsthilfegruppen tragen dazu bei\, ein individuelles Krisennetzwerk und einen entsprechenden Krisenplan aufzubauen. Übungen tragen zur erfolgreichen Erweiterung der Strategien im Umgang mit der Erkrankung bei. \nAnmeldung\nDu kannst immer ohne Anmeldung kommen. Für die Organisation des Treffens wäre eine Anmeldung hilfreich. \n\n\n\nDie monatliche Selbsthilfegruppe ermuntert die Teilnehmenden\, neue Sichtweisen zu einem bestimmten Thema auszuprobieren\, sich über Fremd- und Eigenwirkung der Übungen auszutauschen\, neue Handlungsmöglichkeiten zu erforschen und die eigene Lebenssituation neu zu bewerten. Darüber hinaus haben die Teilnehmenden die Möglichkeit\, mit anderen in einen persönlichen Erfahrungsaustausch zu kommen.  \nDie Veranstaltung wird durchgeführt von der Selbsthilfegruppe  ABC Online am Dienstag mit Unterstützung des Bundesverband Burnout und Depression e.V..  \nWeitere Veranstaltungen sind hier zu finden. \nInformationen zum Krankheitsbild sind hier auf den Seiten des Bundesverbandes zu finden.\n\n\n\nModerator\nChristian
URL:https://selbsthilfe-burnout-und-depression.de/event/selbsthilfegruppe-abc-online-am-dienstag-antreiber
LOCATION:ABC Online am Dienstag
CATEGORIES:Alle Städte,Online
ORGANIZER;CN="Bundesverband BBuD":MAILTO:info@bbud.info
END:VEVENT
BEGIN:VEVENT
DTSTART;TZID=Europe/Paris:20260310T190000
DTEND;TZID=Europe/Paris:20260310T210000
DTSTAMP:20260421T120006
CREATED:20260211T114313Z
LAST-MODIFIED:20260304T121216Z
UID:10001786-1773169200-1773176400@selbsthilfe-burnout-und-depression.de
SUMMARY:Selbsthilfegruppe ABC Darmstadt/Dieburg – Angst/ Versagensangst
DESCRIPTION:Die Selbsthilfegruppe ABC Darmstadt/Dieburg trifft sich in der Regel am zweiten Dienstag im Monat von 19:00 bis 21:00 im Paul-Gerhard-Haus\, Nordhäuser Str. 32\, 64380 Roßdorf-Gundernhausen.\n\nDu bist herzlich willkommen!  Gemeinsam schaffen wir einen Raum für mehr Gelassenheit\, innere Balance und Wohlbefinden.  \nThema: Angst/ Versagensangst\n \n\n\nUnser Leben stellt uns immer wieder vor neue Herausforderungen\, z.B. den Wiedereinstieg ins das Berufsleben nach einer längeren Phase der Krankheit. Dabei kann uns manchmal ein unsicheres Gefühl und die Sorge\, scheitern zu können\, begleiten. Die Rede ist von Versagensangst.\nDen Teufelskreis von Angst und Erschöpfung unterbrechen: Versagensängste können zu chronischem Stress führen\, der wiederum die Symptome von Burnout verstärken kann. Wenn jemand ständig Angst hat zu versagen\, arbeitet er oder sie möglicherweise noch härter\, um Fehler zu vermeiden. Diese Überarbeitung kann zu Erschöpfung führen\, was die Produktivität und Effizienz weiter verringert und die Angst vor dem Versagen verstärkt.\nWie immer tauschen wir uns gegenseitig aus und entwickeln dann gemeinsam Strategien aus dem Kreis auszubrechen.\n\n\n\nMit unseren Selbsthilfegruppen tragen wir zur emotionalen Entlastung und gegenseitige Unterstützung bei. Die Teilnehmenden geben sich gegenseitige wertschätzende Lebenshilfe. Durch die Teilnahme wird das Selbstbewusstsein und das Selbstwertgefühl gestärkt. Frühwarnzeichen können rechtzeitig erkannt werden\, das soziale Netz wird durch den Austausch mit den Teilnehmenden gestärkt. Die Selbsthilfegruppen tragen dazu bei\, ein individuelles Krisennetzwerk und einen entsprechenden Krisenplan aufzubauen. Übungen tragen zur erfolgreichen Erweiterung der Strategien im Umgang mit der Erkrankung bei. \n  \nAnmeldung\nDu kannst immer ohne Anmeldung kommen. Für die Organisation des Treffens wäre eine Anmeldung hilfreich. \nDie monatliche Selbsthilfegruppe Anderes Burnout-Café ermuntert die Teilnehmenden\, neue Sichtweisen zu einem bestimmten Thema auszuprobieren\, sich über Fremd- und Eigenwirkung der Übungen auszutauschen\, neue Handlungsmöglichkeiten zu erforschen und die eigene Lebenssituation neu zu bewerten. Darüber hinaus haben die Teilnehmenden die Möglichkeit\, mit anderen in einen persönlichen Erfahrungsaustausch zu kommen.  \nDie Veranstaltung wird durchgeführt von der Selbsthilfegruppe  ABC Darmstadt/Dieburg mit Unterstützung des Bundesverband Burnout und Depression e.V..  \nWeitere Veranstaltungen sind hier zu finden. \nInformationen zum Krankheitsbild sind hier auf den Seiten des Bundesverbandes zu finden. \nModerator:innen\nFrank & Natascha
URL:https://selbsthilfe-burnout-und-depression.de/event/selbsthilfegruppe-abc-darmstadt-dieburg-angst-versagensangst
LOCATION:ABC Darmstadt/Dieburg\, Nordhäuser Str. 32\, Roßdorf-Gundernhausen\, 64380
CATEGORIES:Darmstadt/Dieburg,Präsenz
ORGANIZER;CN="ABC Darmstadt/Dieburg":MAILTO:darmstadt-dieburg@anderes-burnout-cafe.de
END:VEVENT
BEGIN:VEVENT
DTSTART;TZID=Europe/Paris:20260310T190000
DTEND;TZID=Europe/Paris:20260310T211500
DTSTAMP:20260421T120006
CREATED:20260211T114313Z
LAST-MODIFIED:20260304T121215Z
UID:10001785-1773169200-1773177300@selbsthilfe-burnout-und-depression.de
SUMMARY:Selbsthilfegruppe ABC Berlin-Kreuzberg – Resilienz
DESCRIPTION:Die Selbsthilfegruppe ABC Berlin findet regelmäßig alle vier Wochen am Dienstag  von 19:00 bis 21:15 in Präsenz im HeileHaus\, Seitenflügel\, 2. OG rechts\, Waldemarstraße 36\, 10999 Berlin Kreuzberg statt. \nThema: Resilienz (Innere Widerstandskraft stärken) – im Überblick\n \n\nWarum es sich lohnt\, mehr über Resilienz zu erfahren.\n\nResilienz ist die persönliche Widerstandkraft und Belastbarkeit in Stresssituationen.\nSie wird täglich neu gefordert – und man kann an ihr arbeiten. Resilienz ist wie ein Muskel. Je mehr Sie ihn trainieren\, umso kräftiger werden Sie innerlich.\n\nIn der heutigen Zeit werden im beruflichen Alltag eine hohe Flexibilität und Veränderungsbereitschaft erwartet. Gleichzeitig erhöht sich die Rollen- und Aufgabenvielfalt und verkürzt sich die zur Verfügung stehende Zeit – bei erhöhtem Arbeitsaufwand. Darüber hinaus bedeutet die Vereinbarung von Privatleben und erfolgreichem Berufsalltag oft eine enorme Belastung und kann zu Stressempfinden führen.\n\nAn diesem Abend lernen Sie alltagstaugliche Methoden kennen\, wie Sie Ihren persönlichen „Resilienzmuskel“ trainieren und aufbauen können.\n\nFür mehr Gelassenheit in stressigen Momenten.\n\n\nMit unseren Selbsthilfegruppen tragen wir zur emotionalen Entlastung und gegenseitige Unterstützung bei. Die Teilnehmenden geben sich gegenseitige wertschätzende Lebenshilfe. Durch die Teilnahme wird das Selbstbewusstsein und das Selbstwertgefühl gestärkt. Frühwarnzeichen können rechtzeitig erkannt werden\, das soziale Netz wird durch den Austausch mit den Teilnehmenden gestärkt. Die Selbsthilfegruppen tragen dazu bei\, ein individuelles Krisennetzwerk und einen entsprechenden Krisenplan aufzubauen. Übungen tragen zur erfolgreichen Erweiterung der Strategien im Umgang mit der Erkrankung bei. \nAnmeldung in der Selbsthilfegruppe ABC Berlin-Kreuzberg\nDu kannst immer ohne Anmeldung kommen. Für die Organisation des Treffens wäre eine Anmeldung hilfreich. \nDas monatliche Burnout-Café ermuntert die Teilnehmenden\, neue Sichtweisen zu einem bestimmten Thema auszuprobieren\, sich über Fremd- und Eigenwirkung der Übungen auszutauschen\, neue Handlungsmöglichkeiten zu erforschen und die eigene Lebenssituation neu zu bewerten. Darüber hinaus haben die Teilnehmenden die Möglichkeit\, mit anderen in einen persönlichen Erfahrungsaustausch zu kommen.  \nDie Veranstaltung wird durchgeführt von der Selbsthilfegruppe  ABC Berlin-Kreuzberg mit Unterstützung des Bundesverband Burnout und Depression e.V..  \nWeitere Veranstaltungen sind hier zu finden. \nInformationen zum Krankheitsbild sind hier auf den Seiten des Bundesverbandes zu finden. \nModeratorin\nLinda
URL:https://selbsthilfe-burnout-und-depression.de/event/selbsthilfegruppe-abc-berlin-kreuzberg-resilienz-2
LOCATION:ABC Berlin-Kreuzberg\, HeileHaus\, Seitenflügel\, 2.OG\, Berlin Kreuzberg\, Berlin\, 10999
CATEGORIES:Berlin-Kreuzberg,Präsenz
ORGANIZER;CN="Bundesverband BBuD":MAILTO:info@bbud.info
END:VEVENT
END:VCALENDAR