BEGIN:VCALENDAR
VERSION:2.0
PRODID:-//Selbsthilfe Burnout und Depression - ECPv6.6.3//NONSGML v1.0//EN
CALSCALE:GREGORIAN
METHOD:PUBLISH
X-ORIGINAL-URL:https://selbsthilfe-burnout-und-depression.de
X-WR-CALDESC:Veranstaltungen für Selbsthilfe Burnout und Depression
REFRESH-INTERVAL;VALUE=DURATION:PT1H
X-Robots-Tag:noindex
X-PUBLISHED-TTL:PT1H
BEGIN:VTIMEZONE
TZID:Europe/Paris
BEGIN:DAYLIGHT
TZOFFSETFROM:+0100
TZOFFSETTO:+0200
TZNAME:CEST
DTSTART:20260329T010000
END:DAYLIGHT
BEGIN:STANDARD
TZOFFSETFROM:+0200
TZOFFSETTO:+0100
TZNAME:CET
DTSTART:20261025T010000
END:STANDARD
END:VTIMEZONE
BEGIN:VEVENT
DTSTART;TZID=Europe/Paris:20260401T190000
DTEND;TZID=Europe/Paris:20260401T211500
DTSTAMP:20260423T180707
CREATED:20260304T121221Z
LAST-MODIFIED:20260325T121300Z
UID:10001802-1775070000-1775078100@selbsthilfe-burnout-und-depression.de
SUMMARY:Selbsthilfegruppe ABC Köln in Präsenz – Selbstfürsorge
DESCRIPTION:Die Selbsthilfegruppe ABC Köln findet regelmäßig am ersten Mittwoch im Monat in Präsenz von 19:00 bis 21:15 online statt.  Wir treffen uns im Nachbarschaftshaus in der Ansgarstraße 5\, 50825 Köln-Neuehrenfeld. \nBitte meldet Euch über den Link unten zur Teilnahme an der Selbsthilfegruppe ABC Köln an! \nThema: Selbstfürsorge\n \n\n\nMehr Selbstfürsorge trotz zunehmendem Egoismus in der Welt?\nGehe ich mit mir ebenso gut um\, wie mit anderen? Wie kann ich lernen\, für mich zu entscheiden\, Verantwortung zu übernehmen und mein Wohlergehen zu steigern? Und wie gelingt es\, mit mehr Selbstfürsorge auch im Alltag zu leben? Antworten auf diese und andere Fragen finden Interessierte und Betroffene im Rahmen des Burnout-Cafés.\n\n\n\nMit unseren Selbsthilfegruppen tragen wir zur emotionalen Entlastung und gegenseitige Unterstützung bei. Die Teilnehmenden geben sich gegenseitige wertschätzende Lebenshilfe. Durch die Teilnahme wird das Selbstbewusstsein und das Selbstwertgefühl gestärkt. Frühwarnzeichen können rechtzeitig erkannt werden\, das soziale Netz wird durch den Austausch mit den Teilnehmenden gestärkt. Die Selbsthilfegruppen tragen dazu bei\, ein individuelles Krisennetzwerk und einen entsprechenden Krisenplan aufzubauen. Übungen tragen zur erfolgreichen Erweiterung der Strategien im Umgang mit der Erkrankung bei. \nAnmeldung\nBitte meldet euch vorher an . Für die Organisation des Treffens wäre eine Anmeldung hilfreich. \nDie monatliche Selbsthilfegruppe ermuntert die Teilnehmenden\, neue Sichtweisen zu einem bestimmten Thema auszuprobieren\, sich über Fremd- und Eigenwirkung der Übungen auszutauschen\, neue Handlungsmöglichkeiten zu erforschen und die eigene Lebenssituation neu zu bewerten. Darüber hinaus haben die Teilnehmenden die Möglichkeit\, mit anderen in einen persönlichen Erfahrungsaustausch zu kommen.  \nDie Veranstaltung wird durchgeführt von der Selbsthilfegruppe  ABC Köln mit Unterstützung des Bundesverband Burnout und Depression e.V. und durch die Pauschalförderung der Selbsthilfegruppen nach  SGB V\, §20h. \nWeitere Veranstaltungen sind hier zu finden. \nInformationen zum Krankheitsbild sind hier auf den Seiten des Bundesverbandes zu finden. \nModeratorin\nSandra
URL:https://selbsthilfe-burnout-und-depression.de/event/selbsthilfegruppe-abc-koeln-in-praesenz-selbstfuersorge-2
LOCATION:ABC Köln\, Ansgarstraße 5\, Köln – Neuehrenfeld\, 50825\, Deutschland
CATEGORIES:Alle Städte,Präsenz
ORGANIZER;CN="Sandra Prei%C3%9F":MAILTO:koeln{at}anderes-burnout-cafe.de
END:VEVENT
END:VCALENDAR