BEGIN:VCALENDAR
VERSION:2.0
PRODID:-//Selbsthilfe Burnout und Depression - ECPv6.6.3//NONSGML v1.0//EN
CALSCALE:GREGORIAN
METHOD:PUBLISH
X-ORIGINAL-URL:https://selbsthilfe-burnout-und-depression.de
X-WR-CALDESC:Veranstaltungen für Selbsthilfe Burnout und Depression
REFRESH-INTERVAL;VALUE=DURATION:PT1H
X-Robots-Tag:noindex
X-PUBLISHED-TTL:PT1H
BEGIN:VTIMEZONE
TZID:Europe/Paris
BEGIN:DAYLIGHT
TZOFFSETFROM:+0100
TZOFFSETTO:+0200
TZNAME:CEST
DTSTART:20250330T010000
END:DAYLIGHT
BEGIN:STANDARD
TZOFFSETFROM:+0200
TZOFFSETTO:+0100
TZNAME:CET
DTSTART:20251026T010000
END:STANDARD
END:VTIMEZONE
BEGIN:VEVENT
DTSTART;TZID=Europe/Paris:20250915T190000
DTEND;TZID=Europe/Paris:20250915T210000
DTSTAMP:20260425T054718
CREATED:20250817T231227Z
LAST-MODIFIED:20250914T232804Z
UID:10001596-1757962800-1757970000@selbsthilfe-burnout-und-depression.de
SUMMARY:Selbsthilfegruppe ABC Online am Montag – Soziale Netzwerke
DESCRIPTION:Die Selbsthilfegruppe ABC Online am Montag findet regelmäßig am dritten Montag im Monat von 19:00 bis 21:00 online statt. Die Einwahl ist https://us02web.zoom.us/j/805791047 \nDie Einwahl in die Selbsthilfegruppe ABC Online am Montag ist immer 10 Minuten vor dem offiziellen Beginn möglich und sinnvoll. Dies dient zum Ankommen\, Austausch untereinander oder auch dazu\, technische Schwierigkeiten vor Beginn zu beseitigen. Wir legen Wert darauf\, dass jeder mit Bild und Ton an der Veranstaltung teilnimmt. Nur so kann ein vertrauensvoller Austausch untereinander stattfinden. Bitte testet vorher bei der Einwahl Eure Kamera und das Audio. Weitergehende Unterstützung zu ZOOM findet ihr hier. \nNach der offiziellen Startzeit ist keine Einwahl mehr möglich\, denn dies ist Online noch störender als in Präsenzveranstaltungen. Danke für Euer Verständnis. Wir freuen uns auf Euch! \nSoziale Netzwerke –\n \n\n\n\nFreunden\, Familienangehörigen\, Kollegen oder Nachbarn zu helfen\, ist für Sie selbstverständlich. Andere um Hilfe zu bitten und diese anzunehmen\, fällt Ihnen hingegen schwer? Um die Gründe dafür herauszufinden\, nehmen wir das eigene Netzwerk genauer unter die Lupe: Wer sind meine Freunde und wie pflege ich meine Beziehungen? Wem helfe ich und wer unterstützt mich? Wie kläre ich konflikthaltige Beziehungen?\n\n\n\n\nMit unseren Selbsthilfegruppen tragen wir zur emotionalen Entlastung und gegenseitige Unterstützung bei. Die Teilnehmenden geben sich gegenseitige wertschätzende Lebenshilfe. Durch die Teilnahme wird das Selbstbewusstsein und das Selbstwertgefühl gestärkt. Frühwarnzeichen können rechtzeitig erkannt werden\, das soziale Netz wird durch den Austausch mit den Teilnehmenden gestärkt. Die Selbsthilfegruppen tragen dazu bei\, ein individuelles Krisennetzwerk und einen entsprechenden Krisenplan aufzubauen. Übungen tragen zur erfolgreichen Erweiterung der Strategien im Umgang mit der Erkrankung bei. \nAnmeldung\nDu kannst immer ohne Anmeldung kommen. Für die Organisation des Treffens wäre eine Anmeldung hilfreich. \n\n\n\nDie monatliche Selbsthilfegruppe ermuntert die Teilnehmenden\, neue Sichtweisen zu einem bestimmten Thema auszuprobieren\, sich über Fremd- und Eigenwirkung der Übungen auszutauschen\, neue Handlungsmöglichkeiten zu erforschen und die eigene Lebenssituation neu zu bewerten. Darüber hinaus haben die Teilnehmenden die Möglichkeit\, mit anderen in einen persönlichen Erfahrungsaustausch zu kommen.  \nDie Veranstaltung wird durchgeführt von der Selbsthilfegruppe  ABC Online am Montag mit Unterstützung des Bundesverband Burnout und Depression e.V..  \nWeitere Veranstaltungen sind hier zu finden. \nInformationen zum Krankheitsbild sind hier auf den Seiten des Bundesverbandes zu finden.\n\n\n\nModerator:in\nThomas Grünschläger | Telefon – 0174 71 72 36 | Mail – tg (at) bvbud.de\n 
URL:https://selbsthilfe-burnout-und-depression.de/event/selbsthilfegruppe-abc-online-am-montag-soziale-netzwerke
LOCATION:ABC ONLINE am Montag
CATEGORIES:Alle Städte,Online
ORGANIZER;CN="Thomas Gr%C3%BCnschl%C3%A4ger":MAILTO:tg (at) bbud.info
END:VEVENT
BEGIN:VEVENT
DTSTART;TZID=Europe/Paris:20250916T190000
DTEND;TZID=Europe/Paris:20250916T210000
DTSTAMP:20260425T054718
CREATED:20250914T232804Z
LAST-MODIFIED:20250914T232805Z
UID:10001611-1758049200-1758056400@selbsthilfe-burnout-und-depression.de
SUMMARY:Selbsthilfegruppe ABC Darmstadt/Dieburg – Prokrastination überwinden
DESCRIPTION:Die Selbsthilfegruppe ABC Darmstadt/Dieburg trifft sich in der Regel am zweiten Dienstag im Monat von 19:00 bis 21:00 im Paul-Gerhard-Haus\, Nordhäuser Str. 32\, 64380 Roßdorf-Gundernhausen.\n\nDu bist herzlich willkommen!  Gemeinsam schaffen wir einen Raum für mehr Gelassenheit\, innere Balance und Wohlbefinden.  \nThema: Prokrastination überwinden\n \n\nManchmal werden Dinge nicht angefangen bzw. nicht erledigt. Stattdessen werden andere Dinge flugs erledigt. 98% der Menschen\, die an einer Studie der Uni Münster teilgenommen haben\, bestätigen das\, manche leiden darunter. Warum ist das so? Was steckt dahinter? Mangelnde Selbstmotivation? Fehlendes Organisationstalent? Im nächsten Burnout-Café widmen wir uns diesen Fragen. Übungen werden einen besseren Umgang mit der Prokrastination ermöglichen.\n\n\n\n\nMit unseren Selbsthilfegruppen tragen wir zur emotionalen Entlastung und gegenseitige Unterstützung bei. Die Teilnehmenden geben sich gegenseitige wertschätzende Lebenshilfe. Durch die Teilnahme wird das Selbstbewusstsein und das Selbstwertgefühl gestärkt. Frühwarnzeichen können rechtzeitig erkannt werden\, das soziale Netz wird durch den Austausch mit den Teilnehmenden gestärkt. Die Selbsthilfegruppen tragen dazu bei\, ein individuelles Krisennetzwerk und einen entsprechenden Krisenplan aufzubauen. Übungen tragen zur erfolgreichen Erweiterung der Strategien im Umgang mit der Erkrankung bei. \nAnmeldung\nDu kannst immer ohne Anmeldung kommen. Für die Organisation des Treffens wäre eine Anmeldung hilfreich. \nDie monatliche Selbsthilfegruppe Anderes Burnout-Café ermuntert die Teilnehmenden\, neue Sichtweisen zu einem bestimmten Thema auszuprobieren\, sich über Fremd- und Eigenwirkung der Übungen auszutauschen\, neue Handlungsmöglichkeiten zu erforschen und die eigene Lebenssituation neu zu bewerten. Darüber hinaus haben die Teilnehmenden die Möglichkeit\, mit anderen in einen persönlichen Erfahrungsaustausch zu kommen.  \nDie Veranstaltung wird durchgeführt von der Selbsthilfegruppe  ABC Darmstadt/Dieburg mit Unterstützung des Bundesverband Burnout und Depression e.V..  \nWeitere Veranstaltungen sind hier zu finden. \nInformationen zum Krankheitsbild sind hier auf den Seiten des Bundesverbandes zu finden. \nModerator\nFrank
URL:https://selbsthilfe-burnout-und-depression.de/event/selbsthilfegruppe-abc-darmstadt-dieburg-prokrastination-ueberwinden
LOCATION:ABC Darmstadt/Dieburg\, Nordhäuser Str. 32\, Roßdorf-Gundernhausen\, 64380
CATEGORIES:Darmstadt/Dieburg,Präsenz
ORGANIZER;CN="ABC Darmstadt/Dieburg":MAILTO:darmstadt-dieburg@anderes-burnout-cafe.de
END:VEVENT
BEGIN:VEVENT
DTSTART;TZID=Europe/Paris:20250916T190000
DTEND;TZID=Europe/Paris:20250916T211500
DTSTAMP:20260425T054718
CREATED:20250817T231227Z
LAST-MODIFIED:20250914T232804Z
UID:10001597-1758049200-1758057300@selbsthilfe-burnout-und-depression.de
SUMMARY:Selbsthilfegruppe ABC Bad Soden-Salmünster – Zeit- und Selbstmanagement
DESCRIPTION:Die Selbsthilfegruppe ABC Bad Soden-Salmünster findet regelmäßig am dritten Dienstag im Monat im Generationentreff BS-Salmünster\, Frankfurter Str. 58 statt. \nThema:  Zeit- und Selbstmanagement\n \nMit bewusstem Zeitmanagement können wir Stress reduzieren und unser Wohlbefinden steigern. In diesem ABC dreht sich alles um die praktische Anwendung von effektiven Zeitmanagement-Strategien. Schon kleine Anpassungen im Alltag können zu einer verbesserten Effizienz und mehr innerer Ruhe führen. Unser Austausch konzentriert sich auf konkrete Tipps\, um dem Alltag durch gelungenes Zeitmanagement gelassener zu begegnen.\n  \nMit unseren Selbsthilfegruppen tragen wir zur emotionalen Entlastung und gegenseitige Unterstützung bei. Die Teilnehmenden geben sich gegenseitige wertschätzende Lebenshilfe. Durch die Teilnahme wird das Selbstbewusstsein und das Selbstwertgefühl gestärkt. Frühwarnzeichen können rechtzeitig erkannt werden\, das soziale Netz wird durch den Austausch mit den Teilnehmenden gestärkt. Die Selbsthilfegruppen tragen dazu bei\, ein individuelles Krisennetzwerk und einen entsprechenden Krisenplan aufzubauen. Übungen tragen zur erfolgreichen Erweiterung der Strategien im Umgang mit der Erkrankung bei. \nAnmeldung\nDu kannst immer ohne Anmeldung kommen. Für die Organisation des Treffens wäre eine Anmeldung hilfreich. \nDie  monatliche Selbsthilfegruppe ermuntert die Teilnehmenden\, neue Sichtweisen zu einem bestimmten Thema auszuprobieren\, sich über Fremd- und Eigenwirkung der Übungen auszutauschen\, neue Handlungsmöglichkeiten zu erforschen und die eigene Lebenssituation neu zu bewerten. Darüber hinaus haben die Teilnehmenden die Möglichkeit\, mit anderen in einen persönlichen Erfahrungsaustausch zu kommen.  \nDie Veranstaltung wird durchgeführt von der Selbsthilfegruppe  ABC Bad Soden-Salmünster mit Unterstützung des Bundesverband Burnout und Depression e.V. und durch die Pauschalförderung der Selbsthilfegruppen nach  SGB V\, §20h.  \nWeitere Veranstaltungen sind hier zu finden. \nInformationen zum Krankheitsbild sind hier auf den Seiten des Bundesverbandes zu finden. \nModeratorinnen\nBarbara und Sandra \nv.l.n.r.: Barbara Weiß | 0157 52128559 und Sandra Mandl | 0157 71072502 | bss (at) anderes-burnout-cafe.de
URL:https://selbsthilfe-burnout-und-depression.de/event/selbsthilfegruppe-abc-bad-soden-salmuenster-zeit-und-selbstmanagement
LOCATION:ABC Bad Soden-Salmünster\, Frankfurter Str. 58\, Bad Soden-Salmünster\, 63628\, Deutschland
CATEGORIES:Bad Soden-Salmünster,Präsenz
ORGANIZER;CN="Barbara Weiss":MAILTO:bss{at}anderes-burnout-cafe.de
END:VEVENT
BEGIN:VEVENT
DTSTART;TZID=Europe/Paris:20250918T190000
DTEND;TZID=Europe/Paris:20250918T210000
DTSTAMP:20260425T054718
CREATED:20250824T231247Z
LAST-MODIFIED:20250914T232805Z
UID:10001598-1758222000-1758229200@selbsthilfe-burnout-und-depression.de
SUMMARY:Selbsthilfegruppe ABC offene Gesprächsrunde
DESCRIPTION:Die Selbsthilfegruppe ABC offene Gesprächsrunde findet regelmäßig am dritten Donnerstag im Monat von 19:00 bis 21:00 online statt. Die Einwahl erfolgt über diesen Link: https://us02web.zoom.us/j/805791047 \nDie Einwahl in die Selbsthilfegruppe ABC offene Gesprächsrunde ist immer 10 Minuten vor dem offiziellen Beginn möglich und sinnvoll. Dies dient zum Ankommen\, Austausch untereinander oder auch dazu\, technische Schwierigkeiten vor Beginn zu beseitigen. Wir legen Wert darauf\, dass jeder mit Bild und Ton an der Veranstaltung teilnimmt. Nur so kann ein vertrauensvoller Austausch untereinander stattfinden. Bitte testet vorher bei der Einwahl Eure Kamera und das Audio. Weitergehende Unterstützung zu ZOOM findet ihr hier. \nNach der offiziellen Startzeit ist keine Einwahl mehr möglich\, denn dies ist Online noch störender als in Präsenzveranstaltungen. Danke für Euer Verständnis. Wir freuen uns auf Euch! \nOffene Gesprächsrunde\nIn dieser Gruppe stehen die einzelnen Teilnehmer und ihre persönlichen Geschichten und Anliegen im Mittelpunkt. Anders als  sonst in den lösungs- und themenzentrierten ABC-Selbsthilfegruppen\,  steht hier bewusst das persönliche Anliegen der Teilnehmer im Mittelpunkt. Die Anliegen werdenden den Betroffenen geschildert und die Gruppenmitgliedern tauschen sich darüber aus. In entspannter und vertrauensvoller Atmosphäre können so mit Hilfe der anderen Teilnehmer  vielleicht neue Einsichten zu „alten“ Problemen gewonnen werden. \nMit unseren Selbsthilfegruppen tragen wir zur emotionalen Entlastung und gegenseitige Unterstützung bei. Die Teilnehmenden geben sich gegenseitige wertschätzende Lebenshilfe. Durch die Teilnahme wird das Selbstbewusstsein und das Selbstwertgefühl gestärkt. Frühwarnzeichen können rechtzeitig erkannt werden\, das soziale Netz wird durch den Austausch mit den Teilnehmenden gestärkt. Die Selbsthilfegruppen tragen dazu bei\, ein individuelles Krisennetzwerk und einen entsprechenden Krisenplan aufzubauen. Übungen tragen zur erfolgreichen Erweiterung der Strategien im Umgang mit der Erkrankung bei. \nAnmeldung\nDu kannst immer ohne Anmeldung kommen. Für die Organisation des Treffens wäre eine Anmeldung hilfreich. \nDie monatliche Selbsthilfegruppe ermuntert die Teilnehmenden\, neue Sichtweisen  auszuprobieren\, sich über Fremd- und Eigenwirkung auszutauschen\, neue Handlungsmöglichkeiten zu erforschen und die eigene Lebenssituation neu zu bewerten. Darüber hinaus haben die Teilnehmenden die Möglichkeit\, mit anderen in einen persönlichen Erfahrungsaustausch zu kommen. Die Veranstaltung wird durchgeführt vom Bundesverband Burnout und Depression  e.V.  \nWeitere Veranstaltungen sind hier zu finden. \nInformationen zum Krankheitsbild sind hier auf den Seiten des Bundesverbandes zu finden. \nModerator:in\nDie Gruppen werden von  unterschiedlichen Personen moderiert.\nTelefon: 02131 7734159‬ Mail: online@anderes-burnout-cafe.de
URL:https://selbsthilfe-burnout-und-depression.de/event/selbsthilfegruppe-abc-offene-gespraechsrunde-18
LOCATION:ABC ONLINE Offener Gesprächskreis am Donnerstag
CATEGORIES:Alle Städte,Online
ORGANIZER;CN="Bundesverband BBuD":MAILTO:info@bbud.info
END:VEVENT
BEGIN:VEVENT
DTSTART;TZID=Europe/Paris:20250919T093000
DTEND;TZID=Europe/Paris:20250919T113000
DTSTAMP:20260425T054718
CREATED:20250824T231248Z
LAST-MODIFIED:20250914T232805Z
UID:10001599-1758274200-1758281400@selbsthilfe-burnout-und-depression.de
SUMMARY:Selbsthilfegruppe ABC Online am Freitag – alte Denkmuster aufbrechen
DESCRIPTION:Die Selbsthilfegruppe ABC Online am Freitag findet regelmäßig am dritten Freitag im Monat von 09:30 bis 11:30 auf Zoom statt.\nDie Einwahl erfolgt über https://us02web.zoom.us/j/805791047 \nDie Einwahl in die Selbsthilfegruppe ABC Online am Mittwoch ist immer 10 Minuten vor dem offiziellen Beginn möglich und sinnvoll. Dies dient zum Ankommen\, Austausch untereinander oder auch dazu\, technische Schwierigkeiten vor Beginn zu beseitigen. Wir legen Wert darauf\, dass jeder mit Bild und Ton an der Veranstaltung teilnimmt. Nur so kann ein vertrauensvoller Austausch untereinander stattfinden. Bitte testet vorher bei der Einwahl Eure Kamera und das Audio. Weitergehende Unterstützung zu ZOOM findet ihr hier. \nNach der offiziellen Startzeit ist keine Einwahl mehr möglich\, denn dies ist Online noch störender als in Präsenzveranstaltungen. Danke für Euer Verständnis. Wir freuen uns auf Euch! \nThema: Glaubenssätze transformieren: alte Denkmuster aufbrechen\n \nAlltagsroutinen erleichtern uns das Leben und entlasten unseren Verstand. Die automatisierte Abfolge von Tätigkeiten und Ritualen schafft Vorhersehbarkeit und Planungssicherheit für uns selbst und unsere Umwelt. Manche solcher Angewohnheiten fallen uns gar nicht auf\, einige haben wir lieben und schätzen gelernt\, andere wollen wir gerne verändern\, weil sie sich inzwischen als nicht mehr nützlich erwiesen haben. Und doch tappen wir wiederholt in die Falle alter Automatismen und schaffen es oft nicht\, nachhaltig ein neues Verhaltensmuster zu etablieren.\nAn diesem Abend lernen die Teilnehmenden Möglichkeiten kennen\, sich von unliebsamen Verhaltensmustern zu befreien beziehungsweise sie durch neue zu ersetzen.\n\nMit unseren Selbsthilfegruppen tragen wir zur emotionalen Entlastung und gegenseitige Unterstützung bei. Die Teilnehmenden geben sich gegenseitige wertschätzende Lebenshilfe. Durch die Teilnahme wird das Selbstbewusstsein und das Selbstwertgefühl gestärkt. Frühwarnzeichen können rechtzeitig erkannt werden\, das soziale Netz wird durch den Austausch mit den Teilnehmenden gestärkt. Die Selbsthilfegruppen tragen dazu bei\, ein individuelles Krisennetzwerk und einen entsprechenden Krisenplan aufzubauen. Übungen tragen zur erfolgreichen Erweiterung der Strategien im Umgang mit der Erkrankung bei. \nAnmeldung\nDu kannst immer ohne Anmeldung kommen. Für die Organisation des Treffens wäre eine Anmeldung hilfreich. \n\n\n\nDie monatliche Selbsthilfegruppe  ermuntert die Teilnehmenden\, neue Sichtweisen zu einem bestimmten Thema auszuprobieren\, sich über Fremd- und Eigenwirkung der Übungen auszutauschen\, neue Handlungsmöglichkeiten zu erforschen und die eigene Lebenssituation neu zu bewerten. Darüber hinaus haben die Teilnehmenden die Möglichkeit\, mit anderen in einen persönlichen Erfahrungsaustausch zu kommen. Die Veranstaltung wird durchgeführt von der Online Selbsthilfegruppe  am Mittwochvormittag mit Unterstützung des Bundesverband Burnout und Depression e.V.  \nWeitere Veranstaltungen sind hier zu finden. \nInformationen zum Krankheitsbild sind hier auf den Seiten des Bundesverbandes zu finden.\n\n\n\nModeratorin\nJasmin Lotter | 02131 7734159‬ | portugal (at) anderes-burnout-cafe.de\n 
URL:https://selbsthilfe-burnout-und-depression.de/event/selbsthilfegruppe-abc-online-am-freitag-alte-denkmuster-aufbrechen
LOCATION:ABC ONLINE am Freitag
CATEGORIES:Alle Städte,Freigegeben,Online
ORGANIZER;CN="Jasmin Lotter":MAILTO:portugal{at}anderes-burnout-cafe.de
END:VEVENT
BEGIN:VEVENT
DTSTART;TZID=Europe/Paris:20250919T160000
DTEND;TZID=Europe/Paris:20250919T180000
DTSTAMP:20260425T054718
CREATED:20250831T231221Z
LAST-MODIFIED:20250914T232805Z
UID:10001604-1758297600-1758304800@selbsthilfe-burnout-und-depression.de
SUMMARY:NEU! Selbsthilfegruppe ABC Ratingen – Achtsamkeit
DESCRIPTION:Die Selbsthilfegruppe ABC Ratingen trifft sich in der Regel am dritten Freitag im Monat von 16:00 bis 18:00 Uhr in der Hochstraße 14\, 40878 Ratingen. \nDas erste Treffen der Selbsthilfegruppe findet am 19. September 2025 statt.\n\nDu bist herzlich willkommen!  Gemeinsam schaffen wir einen Raum für mehr Gelassenheit\, innere Balance und Wohlbefinden. \nThema: Achtsamkeit\n \n\n\nUnd wenn ich es gar nicht merke?\nAchtsamkeit ist in aller Munde. Doch worum geht es eigentlich? Für uns ist Achtsamkeit die Basis jeder Veränderung. Wenn ich keine Veränderung bei mir erkennen kann\, brauche ich auch keine Anstrengungen zur Veränderung zu unternehmen. Es geht daher bei Achtsamkeit darum\, die Fähigkeit zu stärken\, Signale unseres Körpers zu erkennen. Wir wollen uns unserer Atmung und unserer Gedanken bewusst werden.\n\n\n\nMit unseren Selbsthilfegruppen tragen wir zur emotionalen Entlastung und gegenseitige Unterstützung bei. Die Teilnehmenden geben sich gegenseitige wertschätzende Lebenshilfe. Durch die Teilnahme wird das Selbstbewusstsein und das Selbstwertgefühl gestärkt. Frühwarnzeichen können rechtzeitig erkannt werden\, das soziale Netz wird durch den Austausch mit den Teilnehmenden gestärkt. Die Selbsthilfegruppen tragen dazu bei\, ein individuelles Krisennetzwerk und einen entsprechenden Krisenplan aufzubauen. Übungen tragen zur erfolgreichen Erweiterung der Strategien im Umgang mit der Erkrankung bei.\n\nAnmeldung\nDu kannst immer ohne Anmeldung kommen. Für die Organisation des Treffens wäre eine Anmeldung hilfreich. \nDie monatliche Selbsthilfegruppe Anderes Burnout-Café ermuntert die Teilnehmenden\, neue Sichtweisen zu einem bestimmten Thema auszuprobieren\, sich über Fremd- und Eigenwirkung der Übungen auszutauschen\, neue Handlungsmöglichkeiten zu erforschen und die eigene Lebenssituation neu zu bewerten. Darüber hinaus haben die Teilnehmenden die Möglichkeit\, mit anderen in einen persönlichen Erfahrungsaustausch zu kommen.  \nDie Veranstaltung wird durchgeführt von der Selbsthilfegruppe  ABC Ratingen mit Unterstützung des Bundesverband Burnout und Depression e.V..  \nWeitere Veranstaltungen sind hier zu finden. \nInformationen zum Krankheitsbild sind hier auf den Seiten des Bundesverbandes zu finden. \nModerator\nKamille
URL:https://selbsthilfe-burnout-und-depression.de/event/neu-selbsthilfegruppe-abc-ratingen-achtsamkeit
LOCATION:ABC Ratingen\, Hochstraße 14\, Ratingen\, 40878\, Germany
CATEGORIES:Präsenz
ORGANIZER;CN="Bundesverband BBuD":MAILTO:info@bbud.info
END:VEVENT
BEGIN:VEVENT
DTSTART;TZID=Europe/Paris:20250919T180000
DTEND;TZID=Europe/Paris:20250919T200000
DTSTAMP:20260425T054718
CREATED:20250824T231248Z
LAST-MODIFIED:20250914T232805Z
UID:10001600-1758304800-1758312000@selbsthilfe-burnout-und-depression.de
SUMMARY:Selbsthilfegruppe ABC Neuss – Zeit- und Selbstmanagement
DESCRIPTION:Die Selbsthilfegruppe ABC Neuss findet immer am 3. Freitag im Monat von 18:00 bis 20:00 Uhr statt. Wir treffen uns in Präsenz im Selbsthilfe-Büro von PariSozial in der Oberstr. 21 in 41460 Neuss.\n \nThema: Zeit- und Selbstmanagement\n \nMit bewusstem Zeitmanagement können wir Stress reduzieren und unser Wohlbefinden steigern. In diesem ABC dreht sich alles um die praktische Anwendung von effektiven Zeitmanagement-Strategien. Schon kleine Anpassungen im Alltag können zu einer verbesserten Effizienz und mehr innerer Ruhe führen. Unser Austausch konzentriert sich auf konkrete Tipps\, um dem Alltag durch gelungenes Zeitmanagement gelassener zu begegnen. \n  \nMit unseren Selbsthilfegruppen tragen wir zur emotionalen Entlastung und gegenseitige Unterstützung bei. Die Teilnehmenden geben sich gegenseitige wertschätzende Lebenshilfe. Durch die Teilnahme wird das Selbstbewusstsein und das Selbstwertgefühl gestärkt. Frühwarnzeichen können rechtzeitig erkannt werden\, das soziale Netz wird durch den Austausch mit den Teilnehmenden gestärkt. Die Selbsthilfegruppen tragen dazu bei\, ein individuelles Krisennetzwerk und einen entsprechenden Krisenplan aufzubauen. Übungen tragen zur erfolgreichen Erweiterung der Strategien im Umgang mit der Erkrankung bei. Kamile \nAnmeldung\nDu kannst immer ohne Anmeldung kommen. Für die Organisation des Treffens wäre eine Anmeldung hilfreich. \nDie monatliche Selbsthilfegruppe Anderes Burnout-Café ermuntert die Teilnehmenden\, neue Sichtweisen zu einem bestimmten Thema auszuprobieren\, sich über Fremd- und Eigenwirkung der Übungen auszutauschen\, neue Handlungsmöglichkeiten zu erforschen und die eigene Lebenssituation neu zu bewerten. Darüber hinaus haben die Teilnehmenden die Möglichkeit\, mit anderen in einen persönlichen Erfahrungsaustausch zu kommen.  \nDie Veranstaltung wird durchgeführt von der Selbsthilfegruppe  ABC Neuss mit Unterstützung des Bundesverband Burnout und Depression e.V..  \nWeitere Veranstaltungen sind hier zu finden. \nInformationen zum Krankheitsbild sind hier auf den Seiten des Bundesverbandes zu finden. \nModeratorin\nJessica
URL:https://selbsthilfe-burnout-und-depression.de/event/selbsthilfegruppe-abc-neuss-zeit-und-selbstmanagement
LOCATION:ABC Neuss\, Oberstraße 21\, Neuss\, 41460\, Deutschland
CATEGORIES:Neuss,Präsenz
ORGANIZER;CN="ABC Neuss":MAILTO:neuss{at}anderes-burnout-cafe.de
END:VEVENT
BEGIN:VEVENT
DTSTART;TZID=Europe/Paris:20250921T150000
DTEND;TZID=Europe/Paris:20250921T170000
DTSTAMP:20260425T054718
CREATED:20250810T225731Z
LAST-MODIFIED:20250921T232730Z
UID:10001589-1758466800-1758474000@selbsthilfe-burnout-und-depression.de
SUMMARY:Selbsthilfegruppe ABC Berlin Prenzlauer Berg – „Was darf bleiben\, was darf gehen?“ – Lebenslasten sortieren
DESCRIPTION:Die Selbsthilfegruppe ABC Berlin Prenzlauer Berg findet diesen Monat ausnahmsweise am 3. Sonntag im Monat statt – am 21.09.2025 von 15:00 bis 17:00 statt.\nWir treffen uns im Stadtteilzentrum Prenzlauer Berg\, Raum Galerie\, Fehrbelliner Str. 92\, 10119 Berlin. \n  \nThema: „Was darf bleiben\, was darf gehen?“ – Lebenslasten sortieren\n \n\nAlltagsroutinen erleichtern uns das Leben und entlasten unseren Verstand. Die automatisierte Abfolge von Tätigkeiten und Ritualen schafft Vorhersehbarkeit und Planungssicherheit für uns selbst und unsere Umwelt. Manche solcher Angewohnheiten fallen uns gar nicht auf\, einige haben wir lieben und schätzen gelernt\, andere wollen wir gerne verändern\, weil sie sich inzwischen als nicht mehr nützlich erwiesen haben. Und doch tappen wir wiederholt in die Falle alter Automatismen und schaffen es oft nicht \, nachhaltig ein neues Verhaltensmuster zu etablieren.\nAn diesem Abend lernen die Teilnehmenden Möglichkeiten kennen\, sich von unliebsamen Verhaltensmustern zu befreien beziehungsweise sie durch neue zu ersetzen.\n\n  \nMit unseren Selbsthilfegruppen tragen wir zur emotionalen Entlastung und gegenseitige Unterstützung bei. Die Teilnehmenden geben sich gegenseitige wertschätzende Lebenshilfe. Durch die Teilnahme wird das Selbstbewusstsein und das Selbstwertgefühl gestärkt. Frühwarnzeichen können rechtzeitig erkannt werden\, das soziale Netz wird durch den Austausch mit den Teilnehmenden gestärkt. Die Selbsthilfegruppen tragen dazu bei\, ein individuelles Krisennetzwerk und einen entsprechenden Krisenplan aufzubauen. Übungen tragen zur erfolgreichen Erweiterung der Strategien im Umgang mit der Erkrankung bei. \nAnmeldung\nDu kannst immer ohne Anmeldung kommen. Für die Organisation des Treffens wäre eine Anmeldung hilfreich. \nDie  monatliche Selbsthilfegruppe ermuntert die Teilnehmenden\, neue Sichtweisen zu einem bestimmten Thema auszuprobieren\, sich über Fremd- und Eigenwirkung der Übungen auszutauschen\, neue Handlungsmöglichkeiten zu erforschen und die eigene Lebenssituation neu zu bewerten. Darüber hinaus haben die Teilnehmenden die Möglichkeit\, mit anderen in einen persönlichen Erfahrungsaustausch zu kommen.  \nDie Veranstaltung wird durchgeführt von der Selbsthilfegruppe  ABC Berlin Prenzlauer Berg mit Unterstützung des Bundesverband Burnout und Depression e.V. Weitere Veranstaltungen sind hier zu finden. \nInformationen zum Krankheitsbild sind hier auf den Seiten des Bundesverbandes zu finden. \nModeratorin\nTanja
URL:https://selbsthilfe-burnout-und-depression.de/event/selbsthilfegruppe-abc-berlin-prenzlauer-berg-was-darf-bleiben-was-darf-gehen-lebenslasten-sortieren
LOCATION:ABC Berlin Prenzlauer Berg\, Stadtteilzentrum Prenzlauer Berg\, Fehrbelliner Str. 92\, Berlin\, 10119
CATEGORIES:Berlin Prenzlauer Berg,Präsenz
ORGANIZER;CN="ABC Berlin Prenzlauer Berg":MAILTO:berlin_prenzlauerberg@anderes-burnout-cafe.de
END:VEVENT
END:VCALENDAR