BEGIN:VCALENDAR
VERSION:2.0
PRODID:-//Selbsthilfe Burnout und Depression - ECPv6.6.3//NONSGML v1.0//EN
CALSCALE:GREGORIAN
METHOD:PUBLISH
X-WR-CALNAME:Selbsthilfe Burnout und Depression
X-ORIGINAL-URL:https://selbsthilfe-burnout-und-depression.de
X-WR-CALDESC:Veranstaltungen für Selbsthilfe Burnout und Depression
REFRESH-INTERVAL;VALUE=DURATION:PT1H
X-Robots-Tag:noindex
X-PUBLISHED-TTL:PT1H
BEGIN:VTIMEZONE
TZID:Europe/Paris
BEGIN:DAYLIGHT
TZOFFSETFROM:+0100
TZOFFSETTO:+0200
TZNAME:CEST
DTSTART:20260329T010000
END:DAYLIGHT
BEGIN:STANDARD
TZOFFSETFROM:+0200
TZOFFSETTO:+0100
TZNAME:CET
DTSTART:20261025T010000
END:STANDARD
END:VTIMEZONE
BEGIN:VEVENT
DTSTART;TZID=Europe/Paris:20260323T200000
DTEND;TZID=Europe/Paris:20260323T213000
DTSTAMP:20260421T115542
CREATED:20260225T121220Z
LAST-MODIFIED:20260318T121300Z
UID:10001795-1774296000-1774301400@selbsthilfe-burnout-und-depression.de
SUMMARY:Selbsthilfegruppe ABC für Männer (Online) – Entscheidungen treffen (Kopf oder Bauch)
DESCRIPTION:Die Selbsthilfegruppe Online ABC für Männer findet in der Regel jeden jeden 4. Montag von 20-21:30 Uhr über Zoom statt.\nEinwahl unter:\nhttps://us02web.zoom.us/j/805791047\n \nDu bist herzlich willkommen!  Gemeinsam schaffen wir einen Raum für mehr Gelassenheit\, innere Balance und Wohlbefinden. \nDie Einwahl in die Selbsthilfegruppe ABC Online für Männer ist immer 10 Minuten vor dem offiziellen Beginn möglich und sinnvoll. Dies dient zum Ankommen\, Austausch untereinander oder auch dazu\, technische Schwierigkeiten vor Beginn zu beseitigen. Wir legen Wert darauf\, dass jeder mit Bild und Ton an der Veranstaltung teilnimmt. Nur so kann ein vertrauensvoller Austausch untereinander stattfinden. Bitte testet vorher bei der Einwahl Eure Kamera und das Audio. Weitergehende Unterstützung zu ZOOM findet ihr hier. \nNach der offiziellen Startzeit ist keine Einwahl mehr möglich\, denn dies ist Online noch störender als in Präsenzveranstaltungen. Danke für Euer Verständnis. Wir freuen uns auf Euch! \nThema: Entscheidungen treffen (Kopf oder Bauch)\n \n\n\n\n\nManchen Menschen fällt es viel schwerer als anderen\, Entscheidungen zu treffen. Dabei geht es nicht um die Frage “Marmelade oder Käse?”\, “blau oder rot?”\, sondern um Entscheidungen\, die schwer wiegen und Auswirkungen auf unser Leben haben\, wie Entscheidungen im Job\, in der Partnerschaft oder des Lebensentwurfs.\nWann sind Entscheidungen schwer zu treffen und warum sind sie schwer zu treffen bzw. warum fällt es MIR so schwer\, anderen Menschen aber nicht. Den Antworten zu diesen Fragen wollen wir in unseren Veranstaltungen näherkommen und vielleicht fällt es uns in Zukunft dann leichter\, diese Situationen zu bewältigen.\n\n#Entscheidungen #Entscheidungent reffen #Grundsatzentscheidungen #Verhalten\n. \n\n\n\n\nMit unseren Selbsthilfegruppen tragen wir zur emotionalen Entlastung und gegenseitige Unterstützung bei. Die Teilnehmenden geben sich gegenseitige wertschätzende Lebenshilfe. Durch die Teilnahme wird das Selbstbewusstsein und das Selbstwertgefühl gestärkt. Frühwarnzeichen können rechtzeitig erkannt werden\, das soziale Netz wird durch den Austausch mit den Teilnehmenden gestärkt. Die Selbsthilfegruppen tragen dazu bei\, ein individuelles Krisennetzwerk und einen entsprechenden Krisenplan aufzubauen. Übungen tragen zur erfolgreichen Erweiterung der Strategien im Umgang mit der Erkrankung bei.\n\nAnmeldung\nDu kannst immer ohne Anmeldung kommen. Für die Organisation des Treffens wäre eine Anmeldung hilfreich. \nDie monatliche Selbsthilfegruppe Anderes Burnout-Café ermuntert die Teilnehmenden\, neue Sichtweisen zu einem bestimmten Thema auszuprobieren\, sich über Fremd- und Eigenwirkung der Übungen auszutauschen\, neue Handlungsmöglichkeiten zu erforschen und die eigene Lebenssituation neu zu bewerten. Darüber hinaus haben die Teilnehmenden die Möglichkeit\, mit anderen in einen persönlichen Erfahrungsaustausch zu kommen.  \nDie Veranstaltung wird durchgeführt von der Selbsthilfegruppe ABC Online für Männer mit Unterstützung des Bundesverband Burnout und Depression e.V..  \nWeitere Veranstaltungen sind hier zu finden. \nInformationen zum Krankheitsbild sind hier auf den Seiten des Bundesverbandes zu finden. \nModerator\nNathan
URL:https://selbsthilfe-burnout-und-depression.de/event/selbsthilfegruppe-abc-fuer-maenner-online-entscheidungen-treffen-kopf-oder-bauch
LOCATION:ABC für Männer\, Germany
CATEGORIES:Alle Städte,Online
ORGANIZER;CN="Bundesverband BBuD":MAILTO:info@bbud.info
END:VEVENT
BEGIN:VEVENT
DTSTART;TZID=Europe/Paris:20260324T093000
DTEND;TZID=Europe/Paris:20260324T113000
DTSTAMP:20260421T115542
CREATED:20260218T115819Z
LAST-MODIFIED:20260318T121300Z
UID:10001792-1774344600-1774351800@selbsthilfe-burnout-und-depression.de
SUMMARY:Selbsthilfegruppe ABC am Freitag (Online) – Innere Saboteure: Wie deine inneren Stimmen Stress verstärken
DESCRIPTION:Die Selbsthilfegruppe Online ABC am Freitag findet dieses Mal ausnahmsweise am Dienstag von 09:30 – 11:30 Uhr statt.\nEinwahl unter:\nhttps://us02web.zoom.us/j/805791047\n \nDu bist herzlich willkommen!  Gemeinsam schaffen wir einen Raum für mehr Gelassenheit\, innere Balance und Wohlbefinden. \nDie Einwahl in die Selbsthilfegruppe ABC Online am Freitag ist immer 10 Minuten vor dem offiziellen Beginn möglich und sinnvoll. Dies dient zum Ankommen\, Austausch untereinander oder auch dazu\, technische Schwierigkeiten vor Beginn zu beseitigen. Wir legen Wert darauf\, dass jeder mit Bild und Ton an der Veranstaltung teilnimmt. Nur so kann ein vertrauensvoller Austausch untereinander stattfinden. Bitte testet vorher bei der Einwahl Eure Kamera und das Audio. Weitergehende Unterstützung zu ZOOM findet ihr hier. \nNach der offiziellen Startzeit ist keine Einwahl mehr möglich\, denn dies ist Online noch störender als in Präsenzveranstaltungen. Danke für Euer Verständnis. Wir freuen uns auf Euch! \nThema: Innere Saboteure: Wie deine inneren Stimmen Stress verstärken\n \nMit unseren Selbsthilfegruppen tragen wir zur emotionalen Entlastung und gegenseitige Unterstützung bei. Die Teilnehmenden geben sich gegenseitige wertschätzende Lebenshilfe. Durch die Teilnahme wird das Selbstbewusstsein und das Selbstwertgefühl gestärkt. Frühwarnzeichen können rechtzeitig erkannt werden\, das soziale Netz wird durch den Austausch mit den Teilnehmenden gestärkt. Die Selbsthilfegruppen tragen dazu bei\, ein individuelles Krisennetzwerk und einen entsprechenden Krisenplan aufzubauen. Übungen tragen zur erfolgreichen Erweiterung der Strategien im Umgang mit der Erkrankung bei.\n\nAnmeldung\nDu kannst immer ohne Anmeldung kommen. Für die Organisation des Treffens wäre eine Anmeldung hilfreich. \nDie monatliche Selbsthilfegruppe Anderes Burnout-Café ermuntert die Teilnehmenden\, neue Sichtweisen zu einem bestimmten Thema auszuprobieren\, sich über Fremd- und Eigenwirkung der Übungen auszutauschen\, neue Handlungsmöglichkeiten zu erforschen und die eigene Lebemailto:freitag@anderes-burnout-cafe.de ?subject=Anmeldung zum ABC Ratingen&body=Ich nehnssituation neu zu bewerten. Darüber hinaus haben die Teilnehmenden die Möglichkeit\, mit anderen in einen persönlichen Erfahrungsaustausch zu kommen.  \nDie Veranstaltung wird durchgeführt von der Selbsthilfegruppe  ABC Ratingen mit Unterstützung des Bundesverband Burnout und Depression e.V..  \nWeitere Veranstaltungen sind hier zu finden. \nInformationen zum Krankheitsbild sind hier auf den Seiten des Bundesverbandes zu finden. \nModerator\nJasmin und Sonja
URL:https://selbsthilfe-burnout-und-depression.de/event/selbsthilfegruppe-abc-am-freitag-online-innere-saboteure-wie-deine-inneren-stimmen-stress-verstaerken
LOCATION:ABC ONLINE am Freitag
CATEGORIES:Alle Städte,Online
ORGANIZER;CN="Bundesverband BBuD":MAILTO:info@bbud.info
END:VEVENT
BEGIN:VEVENT
DTSTART;TZID=Europe/Paris:20260324T103000
DTEND;TZID=Europe/Paris:20260324T123000
DTSTAMP:20260421T115542
CREATED:20260225T121221Z
LAST-MODIFIED:20260318T121301Z
UID:10001796-1774348200-1774355400@selbsthilfe-burnout-und-depression.de
SUMMARY:Selbsthilfegruppe ABC Trier in Präsenz – Achtsamkeit
DESCRIPTION:Die Selbsthilfegruppe ABC Trier findet regelmäßig einmal monatlich in Präsenz von 10:30 bis 12:30 Uhr statt. \nWir treffen uns in den Räumen von SEKIS\, Stresemannstr. 5-9\, 54290 Trier. \nBitte meldet Euch über den Link unten zur Teilnahme an der Selbsthilfegruppe ABC Trier an! \nThema: Achtsamkeit\n \n\nUnd wenn ich es gar nicht merke?\nAchtsamkeit ist in aller Munde. Doch worum geht es eigentlich? Für uns ist Achtsamkeit die Basis jeder Veränderung. Wenn ich keine Veränderung bei mir erkennen kann\, brauche ich auch keine Anstrengungen zur Veränderung zu unternehmen. Es geht daher bei Achtsamkeit darum\, die Fähigkeit zu stärken\, Signale unseres Körpers zu erkennen. Wir wollen uns unserer Atmung und unserer Gedanken bewusst werden.\n\n\nMit unseren Selbsthilfegruppen tragen wir zur emotionalen Entlastung und gegenseitige Unterstützung bei. Die Teilnehmenden geben sich gegenseitige wertschätzende Lebenshilfe. Durch die Teilnahme wird das Selbstbewusstsein und das Selbstwertgefühl gestärkt. Frühwarnzeichen können rechtzeitig erkannt werden\, das soziale Netz wird durch den Austausch mit den Teilnehmenden gestärkt. Die Selbsthilfegruppen tragen dazu bei\, ein individuelles Krisennetzwerk und einen entsprechenden Krisenplan aufzubauen. Übungen tragen zur erfolgreichen Erweiterung der Strategien im Umgang mit der Erkrankung bei. \nAnmeldung\nBitte meldet euch vorher an . Für die Organisation des Treffens wäre eine Anmeldung hilfreich. \nDie monatliche Selbsthilfegruppe ermuntert die Teilnehmenden\, neue Sichtweisen zu einem bestimmten Thema auszuprobieren\, sich über Fremd- und Eigenwirkung der Übungen auszutauschen\, neue Handlungsmöglichkeiten zu erforschen und die eigene Lebenssituation neu zu bewerten. Darüber hinaus haben die Teilnehmenden die Möglichkeit\, mit anderen in einen persönlichen Erfahrungsaustausch zu kommen.  \nDie Veranstaltung wird durchgeführt von der Selbsthilfegruppe  ABC Trier mit Unterstützung des Bundesverband Burnout und Depression e.V. und durch die Pauschalförderung der Selbsthilfegruppen nach  SGB V\, §20h. \nWeitere Veranstaltungen sind hier zu finden. \nInformationen zum Krankheitsbild sind hier auf den Seiten des Bundesverbandes zu finden. \nModeratorinnen\nPetra
URL:https://selbsthilfe-burnout-und-depression.de/event/selbsthilfegruppe-abc-trier-in-praesenz-achtsamkeit
LOCATION:ABC Trier\, Stresemannstr. 5-9\, Trier\, 54290\, Germany
CATEGORIES:Präsenz,Trier
END:VEVENT
BEGIN:VEVENT
DTSTART;TZID=Europe/Paris:20260324T183000
DTEND;TZID=Europe/Paris:20260324T204500
DTSTAMP:20260421T115542
CREATED:20260225T121222Z
LAST-MODIFIED:20260318T121301Z
UID:10001797-1774377000-1774385100@selbsthilfe-burnout-und-depression.de
SUMMARY:Selbsthilfegruppe ABC München – Achtsamkeit
DESCRIPTION:Die Selbsthilfegruppe ABC München findet regelmäßig in Präsenz am vierten Dienstag im Monat von 18:30 bis 20:45 Uhr im Haus der Missionen / 2. OG Rumänische Gemeinde München\, Dachauer Str. 23 80335 München \nWerte – Achtsamkeit\n \nUnser moderner Alltag ist oft eine Flucht: Wir sind mit unseren Gedanken entweder bei den Sorgen über die Zukunft oder bei der Analyse der Vergangenheit. Dieses permanente Denken hält uns in einem Modus des Multitaskings gefangen\, bei dem wir uns wie auf Autopilot fühlen und kaum im Moment präsent sind. Genau hier setzt Achtsamkeit an\, indem sie uns einen bewussten Ausstieg aus diesem Karussell ermöglicht. Achtsamkeit bedeutet\, die eigenen Gedanken\, Gefühle und Körperempfindungen im gegenwärtigen Moment ohne Wertung wahrzunehmen. Anstatt uns von den endlosen gedanklichen Schleifen steuern zu lassen\, lernen wir\, unsere Aufmerksamkeit aktiv zu lenken. Der Kern dieser Praxis liegt in der einfachen\, kraftvollen Präsenz: ICH – HIER – JETZT. Das ist der Anker\, der uns Klarheit\, Gelassenheit und wahre Lebensfreude schenkt. \nMit unseren Selbsthilfegruppen tragen wir zur emotionalen Entlastung und gegenseitige Unterstützung bei. Die Teilnehmenden geben sich gegenseitige wertschätzende Lebenshilfe. Durch die Teilnahme wird das Selbstbewusstsein und das Selbstwertgefühl gestärkt. Frühwarnzeichen können rechtzeitig erkannt werden\, das soziale Netz wird durch den Austausch mit den Teilnehmenden gestärkt. Die Selbsthilfegruppen tragen dazu bei\, ein individuelles Krisennetzwerk und einen entsprechenden Krisenplan aufzubauen. Übungen tragen zur erfolgreichen Erweiterung der Strategien im Umgang mit der Erkrankung bei. \nAnmeldung für die Selbsthilfegruppe ABC München\n Um sicher zu gehen\, dass die Tür geöffnet wird\, melde dich bitte an. Danke. Für die Organisation des Treffens wäre eine Anmeldung hilfreich. \nDie monatliche Selbsthilfegruppe ermuntert die Teilnehmenden\, neue Sichtweisen zu einem bestimmten Thema auszuprobieren\, sich über Fremd- und Eigenwirkung der Übungen auszutauschen\, neue Handlungsmöglichkeiten zu erforschen und die eigene Lebenssituation neu zu bewerten. Darüber hinaus haben die Teilnehmenden die Möglichkeit\, mit anderen in einen persönlichen Erfahrungsaustausch zu kommen.  \nDie Veranstaltung wird durchgeführt von der Selbsthilfegruppe  ABC München mit Unterstützung des Bundesverband Burnout und Depression e.V.  \nWeitere Veranstaltungen sind hier zu finden. \nInformationen zum Krankheitsbild sind hier auf den Seiten des Bundesverbandes zu finden. \nModeratoren\n \nSilke Wolf |München (at) anderes-burnout-cafe.de \nOvidiu Bretan | 0177 2906292‬ | München (at) anderes-burnout-cafe.de
URL:https://selbsthilfe-burnout-und-depression.de/event/selbsthilfegruppe-abc-muenchen-achtsamkeit-2
LOCATION:ABC München\, Dachauer Str. 23\, München\, 80335\, Deutschland
CATEGORIES:München,Präsenz
ORGANIZER;CN="ABC M%C3%BCnchen":MAILTO:muenchen{at}anderes-burnout-cafe.de
END:VEVENT
BEGIN:VEVENT
DTSTART;TZID=Europe/Paris:20260325T190000
DTEND;TZID=Europe/Paris:20260325T211500
DTSTAMP:20260421T115542
CREATED:20260325T121258Z
LAST-MODIFIED:20260325T121259Z
UID:10001819-1774465200-1774473300@selbsthilfe-burnout-und-depression.de
SUMMARY:Selbsthilfegruppe ABC Nürnberg – Prokrastination – FÄLLT LEIDER AUS!
DESCRIPTION:Die Selbsthilfegruppe ABC Nürnberg findet regelmäßig am letzten Mittwoch im Monat von 19:00 bis 21:15 in Präsenz statt.\nVilla Leon – 1. OG – Kleiner Saal\, Philipp-Koerber.Weg 1\, 90439 Nürnberg statt. \n\nThema: Prokrastination\n\nManchmal werden Dinge nicht angefangen bzw. nicht erledigt. Stattdessen werden andere Dinge flugs erledigt. 98% der Menschen\, die an einer Studie der Uni Münster teilgenommen haben\, bestätigen das\, manche leiden darunter. Warum ist das so? Was steckt dahinter? Mangelnde Selbstmotivation? Fehlendes Organisationstalent? Im nächsten Burnout-Café widmen wir uns diesen Fragen. Übungen werden einen besseren Umgang mit der Prokrastination ermöglichen. \nMit unseren Selbsthilfegruppen tragen wir zur emotionalen Entlastung und gegenseitige Unterstützung bei. Die Teilnehmenden geben sich gegenseitige wertschätzende Lebenshilfe. Durch die Teilnahme wird das Selbstbewusstsein und das Selbstwertgefühl gestärkt. Frühwarnzeichen können rechtzeitig erkannt werden\, das soziale Netz wird durch den Austausch mit den Teilnehmenden gestärkt. Die Selbsthilfegruppen tragen dazu bei\, ein individuelles Krisennetzwerk und einen entsprechenden Krisenplan aufzubauen. Übungen tragen zur erfolgreichen Erweiterung der Strategien im Umgang mit der Erkrankung bei. \nAnmeldung in der Selbsthilfegruppe ABC Nürnberg\nDu kannst immer ohne Anmeldung kommen. Für die Organisation des Treffens wäre eine Anmeldung hilfreich. \nDas monatliche Burnout-Café ermuntert die Teilnehmenden\, neue Sichtweisen zu einem bestimmten Thema auszuprobieren\, sich über Fremd- und Eigenwirkung der Übungen auszutauschen\, neue Handlungsmöglichkeiten zu erforschen und die eigene Lebenssituation neu zu bewerten. Darüber hinaus haben die Teilnehmenden die Möglichkeit\, mit anderen in einen persönlichen Erfahrungsaustausch zu kommen.  \nDie Veranstaltung wird durchgeführt von der Selbsthilfegruppe  ABC Nürnberg mit Unterstützung des Bundesverband Burnout und Depression e.V..  \nWeitere Veranstaltungen sind hier zu finden. \nInformationen zum Krankheitsbild sind hier auf den Seiten des Bundesverbandes zu finden. \nModeratorinnen\nAlena und Blanca
URL:https://selbsthilfe-burnout-und-depression.de/event/selbsthilfegruppe-abc-nuernberg-prokrastination-faellt-leider-aus
LOCATION:ABC Nürnberg\, Philipp-Koerber-Weg 1\, Nürnberg\, 90439\, Deutschland
CATEGORIES:Alle Städte,Nürnberg,Präsenz
ORGANIZER;CN="Alena":MAILTO:nuernberg{at}anderes-burnout-cafe.de
END:VEVENT
BEGIN:VEVENT
DTSTART;TZID=Europe/Paris:20260327T093000
DTEND;TZID=Europe/Paris:20260327T113000
DTSTAMP:20260421T115542
CREATED:20260304T121220Z
LAST-MODIFIED:20260325T121300Z
UID:10001800-1774603800-1774611000@selbsthilfe-burnout-und-depression.de
SUMMARY:Selbsthilfegruppe ABC für Frauen (Online) – Offene Gesprächsrunde
DESCRIPTION:Die Selbsthilfegruppe Online ABC für Frauen findet in der Regel jeden 4. Freitag von 09:30 – 11:30 Uhr über Zoom statt.\nEinwahl unter:\nhttps://us02web.zoom.us/j/805791047\n \nDu bist herzlich willkommen!  Gemeinsam schaffen wir einen Raum für mehr Gelassenheit\, innere Balance und Wohlbefinden. \nDie Einwahl in die Selbsthilfegruppe ABC Online für Frauen ist immer 10 Minuten vor dem offiziellen Beginn möglich und sinnvoll. Dies dient zum Ankommen\, Austausch untereinander oder auch dazu\, technische Schwierigkeiten vor Beginn zu beseitigen. Wir legen Wert darauf\, dass jeder mit Bild und Ton an der Veranstaltung teilnimmt. Nur so kann ein vertrauensvoller Austausch untereinander stattfinden. Bitte testet vorher bei der Einwahl Eure Kamera und das Audio. Weitergehende Unterstützung zu ZOOM findet ihr hier. \nNach der offiziellen Startzeit ist keine Einwahl mehr möglich\, denn dies ist Online noch störender als in Präsenzveranstaltungen. Danke für Euer Verständnis. Wir freuen uns auf Euch! \nThema: Offene Gesprächsrunde\n \nIn dieser offenen Gesprächsrunde stehen die einzelnen Teilnehmer und ihre persönlichen Geschichten und Anliegen im Mittelpunkt. Anders als sonst in den lösungs- und themenzentrierten ABC-Selbsthilfegruppen\,  steht hier bewusst das persönliche Anliegen der Teilnehmer im Mittelpunkt. Die Anliegen werden von den Betroffenen geschildert und die Gruppenmitglieder tauschen sich darüber aus. In entspannter und vertrauensvoller Atmosphäre können so mit Hilfe der anderen Teilnehmer vielleicht neue Einsichten zu „alten“ Problemen gewonnen werden.\n\nMit unseren Selbsthilfegruppen tragen wir zur emotionalen Entlastung und gegenseitige Unterstützung bei. Die Teilnehmenden geben sich gegenseitige wertschätzende Lebenshilfe. Durch die Teilnahme wird das Selbstbewusstsein und das Selbstwertgefühl gestärkt. Frühwarnzeichen können rechtzeitig erkannt werden\, das soziale Netz wird durch den Austausch mit den Teilnehmenden gestärkt. Die Selbsthilfegruppen tragen dazu bei\, ein individuelles Krisennetzwerk und einen entsprechenden Krisenplan aufzubauen. Übungen tragen zur erfolgreichen Erweiterung der Strategien im Umgang mit der Erkrankung bei.\n\nAnmeldung\nDu kannst immer ohne Anmeldung kommen. Für die Organisation des Treffens wäre eine Anmeldung hilfreich. \nDie monatliche Selbsthilfegruppe Anderes Burnout-Café ermuntert die Teilnehmenden\, neue Sichtweisen zu einem bestimmten Thema auszuprobieren\, sich über Fremd- und Eigenwirkung der Übungen auszutauschen\, neue Handlungsmöglichkeiten zu erforschen und die eigene Lebenssituation neu zu bewerten. Darüber hinaus haben die Teilnehmenden die Möglichkeit\, mit anderen in einen persönlichen Erfahrungsaustausch zu kommen.  \nDie Veranstaltung wird durchgeführt von der Selbsthilfegruppe ABC Online für Frauen mit Unterstützung des Bundesverband Burnout und Depression e.V..  \nWeitere Veranstaltungen sind hier zu finden. \nInformationen zum Krankheitsbild sind hier auf den Seiten des Bundesverbandes zu finden. \nModerator\nBeate
URL:https://selbsthilfe-burnout-und-depression.de/event/selbsthilfegruppe-abc-fuer-frauen-online-stabilitaet-und-halt-fuer-personen-mit-psychischen-belastungen-offene-gespraechsrunde
LOCATION:ABC für Frauen\, Germany
CATEGORIES:Alle Städte,Online
ORGANIZER;CN="Bundesverband BBuD":MAILTO:info@bbud.info
END:VEVENT
BEGIN:VEVENT
DTSTART;TZID=Europe/Paris:20260329T180000
DTEND;TZID=Europe/Paris:20260329T200000
DTSTAMP:20260421T115542
CREATED:20260304T121220Z
LAST-MODIFIED:20260325T121300Z
UID:10001801-1774807200-1774814400@selbsthilfe-burnout-und-depression.de
SUMMARY:Selbsthilfegruppe ABC am Sonntag (Online) –  Werte
DESCRIPTION:Die Selbsthilfegruppe ABC Online am Sonntag findet in der Regel jeden letzten Sonntag im Monat von 18:00 – 20:00 Uhr über Zoom statt. \nDie Einwahl ist: https://us02web.zoom.us/j/805791047 \nDie Einwahl in die Selbsthilfegruppe ABC Online am Sonntag ist immer 10 Minuten vor dem offiziellen Beginn möglich und sinnvoll. Dies dient zum Ankommen\, Austausch untereinander oder auch dazu\, technische Schwierigkeiten vor Beginn zu beseitigen. Wir legen Wert darauf\, dass jeder mit Bild und Ton an der Veranstaltung teilnimmt. Nur so kann ein vertrauensvoller Austausch untereinander stattfinden. Bitte testet vorher bei der Einwahl Eure Kamera und das Audio. Weitergehende Unterstützung zu ZOOM findet ihr hier. \nNach der offiziellen Startzeit ist keine Einwahl mehr möglich\, denn dies ist Online noch störender als in Präsenzveranstaltungen. Danke für Euer Verständnis. Wir freuen uns auf Euch! \nThema: Werte\n \n\n\n\n\n\n\n\n\n„Wenn vieles unübersichtlich wird\, können Werte leise Orientierung geben.“\n\nManchmal verliert sich im Alltag das Gefühl dafür\, was uns wirklich wichtig ist. In diesem Treffen öffnen wir einen Raum\, in dem wir uns behutsam unseren inneren Orientierungspunkten annähern:\n\nWas tut gut? Was gibt Halt? Was darf weniger Raum einnehmen?\n\nEs geht nicht um große Entscheidungen\, sondern um Klarheit im Kleinen – um den Moment\, in dem spürbar wird\, was gerade zählt.\n\nEin Abend für Menschen\, die sich wieder mit dem verbinden möchten\, was sie stärkt und ihnen Richtung gibt.\n\n\n\n\n\n\nMit unseren Selbsthilfegruppen tragen wir zur emotionalen Entlastung und gegenseitige Unterstützung bei. Die Teilnehmenden geben sich gegenseitige wertschätzende Lebenshilfe. Durch die Teilnahme wird das Selbstbewusstsein und das Selbstwertgefühl gestärkt. Frühwarnzeichen können rechtzeitig erkannt werden\, das soziale Netz wird durch den Austausch mit den Teilnehmenden gestärkt. Die Selbsthilfegruppen tragen dazu bei\, ein individuelles Krisennetzwerk und einen entsprechenden Krisenplan aufzubauen. Übungen tragen zur erfolgreichen Erweiterung der Strategien im Umgang mit der Erkrankung bei.\n\n\n\n\n\n\n\n\n\n\n\n\n\n\n\n\n\n\n\n\n\n\n\n\n\n\n\n\n\n\nAnmeldung\nDu kannst immer ohne Anmeldung kommen. Für die Organisation des Treffens wäre eine Anmeldung hilfreich. \n\n\n\nDie monatliche Selbsthilfegruppe ermuntert die Teilnehmenden\, neue Sichtweisen zu einem bestimmten Thema auszuprobieren\, sich über Fremd- und Eigenwirkung der Übungen auszutauschen\, neue Handlungsmöglichkeiten zu erforschen und die eigene Lebenssituation neu zu bewerten. Darüber hinaus haben die Teilnehmenden die Möglichkeit\, mit anderen in einen persönlichen Erfahrungsaustausch zu kommen.  \nDie Veranstaltung wird durchgeführt von der Selbsthilfegruppe  ABC Online am Sonntag mit Unterstützung des Bundesverband Burnout und Depression e.V..  \nWeitere Veranstaltungen sind hier zu finden. \nInformationen zum Krankheitsbild sind hier auf den Seiten des Bundesverbandes zu finden.\n\n\n\nModeratorin\nCova und Nicola
URL:https://selbsthilfe-burnout-und-depression.de/event/selbsthilfegruppe-abc-am-sonntag-online-werte
LOCATION:ABC Online am Sonntag
CATEGORIES:Alle Städte,Online
ORGANIZER;CN="Bundesverband BBuD":MAILTO:info@bbud.info
END:VEVENT
END:VCALENDAR