BEGIN:VCALENDAR
VERSION:2.0
PRODID:-//Selbsthilfe Burnout und Depression - ECPv6.6.3//NONSGML v1.0//EN
CALSCALE:GREGORIAN
METHOD:PUBLISH
X-ORIGINAL-URL:https://selbsthilfe-burnout-und-depression.de
X-WR-CALDESC:Veranstaltungen für Selbsthilfe Burnout und Depression
REFRESH-INTERVAL;VALUE=DURATION:PT1H
X-Robots-Tag:noindex
X-PUBLISHED-TTL:PT1H
BEGIN:VTIMEZONE
TZID:Europe/Paris
BEGIN:DAYLIGHT
TZOFFSETFROM:+0100
TZOFFSETTO:+0200
TZNAME:CEST
DTSTART:20240331T010000
END:DAYLIGHT
BEGIN:STANDARD
TZOFFSETFROM:+0200
TZOFFSETTO:+0100
TZNAME:CET
DTSTART:20241027T010000
END:STANDARD
END:VTIMEZONE
BEGIN:VEVENT
DTSTART;TZID=Europe/Paris:20240806T190000
DTEND;TZID=Europe/Paris:20240806T210000
DTSTAMP:20260422T151056
CREATED:20240707T201218Z
LAST-MODIFIED:20240804T201258Z
UID:10001295-1722970800-1722978000@selbsthilfe-burnout-und-depression.de
SUMMARY:Selbsthilfegruppe ABC Düsseldorf – Der Zusammenhang  zwischen Ernährung und  Psyche
DESCRIPTION:Die Selbsthilfegruppe ABC Düsseldorf findet regelmäßig am ersten Dienstag im Monat online von 19:00 bis 21:00 0nline statt.\nDie Einwahl erfolgt über https://us02web.zoom.us/j/805791047 \nDie Einwahl in die Selbsthilfegruppe ABC Düsseldorf ist immer 10 Minuten vor dem offiziellen Beginn möglich und sinnvoll. Dies dient zum Ankommen\, Austausch untereinander oder auch dazu\, technische Schwierigkeiten vor Beginn zu beseitigen. Wir legen Wert darauf\, dass jeder mit Bild und Ton an der Veranstaltung teilnimmt. Nur so kann ein vertrauensvoller Austausch untereinander stattfinden. Bitte testet vorher bei der Einwahl Eure Kamera und das Audio. Weitergehende Unterstützung zu ZOOM findet ihr hier. \nNach der offiziellen Startzeit ist keine Einwahl mehr möglich\, denn dies ist Online noch störender als in Präsenzveranstaltungen. Danke für Euer Verständnis. Wir freuen uns auf Euch! \nThema: Der Zusammenhang zwischen Ernährung und Psyche – Ein Austausch\n \n„Der Mensch ist\, was er isst“ – Ludwig Feuerbach\, deutscher Philosoph.\nWir möchten uns über Eure Erfahrungen zum Thema Ernährung austauschen.\nWas beeinflusst wie die Stimmung? Woran habt ihr den Zusammenhang\nzwischen Essen und Psyche erkannt? Welche hilfreichen Hinweise und\nTipps könnt ihr einander geben?\n  \nMit unseren Selbsthilfegruppen tragen wir zur emotionalen Entlastung und gegenseitige Unterstützung bei. Die Teilnehmenden geben sich gegenseitige wertschätzende Lebenshilfe. Durch die Teilnahme wird das Selbstbewusstsein und das Selbstwertgefühl gestärkt. Frühwarnzeichen können rechtzeitig erkannt werden\, das soziale Netz wird durch den Austausch mit den Teilnehmenden gestärkt. Die Selbsthilfegruppen tragen dazu bei\, ein individuelles Krisennetzwerk und einen entsprechenden Krisenplan aufzubauen. Übungen tragen zur erfolgreichen Erweiterung der Strategien im Umgang mit der Erkrankung bei. \nAnmeldung zur Selbsthilfegruppe ABC Düsseldorf\nDu kannst immer ohne Anmeldung kommen. Für die Organisation des Treffens wäre eine Anmeldung hilfreich. \nDie Selbsthilfegruppe ermuntert die Teilnehmenden\, neue Sichtweisen zu einem bestimmten Thema auszuprobieren\, sich über Fremd- und Eigenwirkung der Übungen auszutauschen\, neue Handlungsmöglichkeiten zu erforschen und die eigene Lebenssituation neu zu bewerten. Darüber hinaus haben die Teilnehmenden die Möglichkeit\, mit anderen in einen persönlichen Erfahrungsaustausch zu kommen.  \nDie Veranstaltung wird durchgeführt von der Selbsthilfegruppe  ABC Düsseldorf mit Unterstützung des Bundesverband Burnout und Depression e.V. und durch die Pauschalförderung der Selbsthilfegruppen nach  SGB V\, §20h. \nWeitere Veranstaltungen sind hier zu finden. \nInformationen zum Krankheitsbild sind hier auf den Seiten des Bundesverbandes zu finden. \nModeratorinnen\nKim und Liso \nJetzt teilen
URL:https://selbsthilfe-burnout-und-depression.de/event/selbsthilfegruppe-abc-duesseldorf-der-zusammenhang-zwischen-ernaehrung-und-psyche
LOCATION:ABC Düsseldorf\, Düsseldorf\, Deutschland
CATEGORIES:Düsseldorf,Freigegeben,Online
ORGANIZER;CN="ABC D%C3%BCsseldorf":MAILTO:duesseldorf{at}anderes-burnout-cafe.de
END:VEVENT
BEGIN:VEVENT
DTSTART;TZID=Europe/Paris:20240702T190000
DTEND;TZID=Europe/Paris:20240702T210000
DTSTAMP:20260422T151056
CREATED:20240602T200241Z
LAST-MODIFIED:20240630T201233Z
UID:10001276-1719946800-1719954000@selbsthilfe-burnout-und-depression.de
SUMMARY:Selbsthilfegruppe ABC Düsseldorf – Netzwerke und soziale Kontakte
DESCRIPTION:Die Selbsthilfegruppe ABC Düsseldorf findet regelmäßig am ersten Dienstag im Monat online von 19:00 bis 21:00 0nline statt.\nDie Einwahl erfolgt über https://us02web.zoom.us/j/805791047 \nDie Einwahl in die Selbsthilfegruppe ABC Düsseldorf ist immer 10 Minuten vor dem offiziellen Beginn möglich und sinnvoll. Dies dient zum Ankommen\, Austausch untereinander oder auch dazu\, technische Schwierigkeiten vor Beginn zu beseitigen. Wir legen Wert darauf\, dass jeder mit Bild und Ton an der Veranstaltung teilnimmt. Nur so kann ein vertrauensvoller Austausch untereinander stattfinden. Bitte testet vorher bei der Einwahl Eure Kamera und das Audio. Weitergehende Unterstützung zu ZOOM findet ihr hier. \nNach der offiziellen Startzeit ist keine Einwahl mehr möglich\, denn dies ist Online noch störender als in Präsenzveranstaltungen. Danke für Euer Verständnis. Wir freuen uns auf Euch! \nThema: Netzwerke und soziale Kontakt\n \nDie Pandemie hat uns alle viel neues abverlangt. Isolation und Einsamkeit haben sich breit gemacht in unserer Gesellschaft. Gerade in diesen Zeiten ist es wichtig mit Menschen in Kontakt zu bleiben oder zu kommen. Freunden\, Familienangehörigen\, Kollegen oder Nachbarn zu helfen\, ist für die meisten selbstverständlich. Andere um Hilfe zu bitten und diese anzunehmen\, fällt manchen hingegen schwer? Um die Gründe dafür herauszufinden\, nehmen wir das eigene Netzwerk genauer unter die Lupe: Wer sind meine Freunde und wie pflege ich meine Beziehungen? Wem helfe ich und wer unterstützt mich? Wie kläre ich konflikthaltige Beziehungen? \n  \nMit unseren Selbsthilfegruppen tragen wir zur emotionalen Entlastung und gegenseitige Unterstützung bei. Die Teilnehmenden geben sich gegenseitige wertschätzende Lebenshilfe. Durch die Teilnahme wird das Selbstbewusstsein und das Selbstwertgefühl gestärkt. Frühwarnzeichen können rechtzeitig erkannt werden\, das soziale Netz wird durch den Austausch mit den Teilnehmenden gestärkt. Die Selbsthilfegruppen tragen dazu bei\, ein individuelles Krisennetzwerk und einen entsprechenden Krisenplan aufzubauen. Übungen tragen zur erfolgreichen Erweiterung der Strategien im Umgang mit der Erkrankung bei. \nAnmeldung zur Selbsthilfegruppe ABC Düsseldorf\nDu kannst immer ohne Anmeldung kommen. Für die Organisation des Treffens wäre eine Anmeldung hilfreich. \nDie Selbsthilfegruppe ermuntert die Teilnehmenden\, neue Sichtweisen zu einem bestimmten Thema auszuprobieren\, sich über Fremd- und Eigenwirkung der Übungen auszutauschen\, neue Handlungsmöglichkeiten zu erforschen und die eigene Lebenssituation neu zu bewerten. Darüber hinaus haben die Teilnehmenden die Möglichkeit\, mit anderen in einen persönlichen Erfahrungsaustausch zu kommen.  \nDie Veranstaltung wird durchgeführt von der Selbsthilfegruppe  ABC Düsseldorf mit Unterstützung des Bundesverband Burnout und Depression e.V. und durch die Pauschalförderung der Selbsthilfegruppen nach  SGB V\, §20h. \nWeitere Veranstaltungen sind hier zu finden. \nInformationen zum Krankheitsbild sind hier auf den Seiten des Bundesverbandes zu finden. \nModeratorinnen\nKim und Liso \nJetzt teilen
URL:https://selbsthilfe-burnout-und-depression.de/event/selbsthilfegruppe-abc-duesseldorf-netzwerke-und-soziale-kontakte
LOCATION:ABC Düsseldorf\, Düsseldorf\, Deutschland
CATEGORIES:Düsseldorf,Freigegeben,Online
ORGANIZER;CN="ABC D%C3%BCsseldorf":MAILTO:duesseldorf{at}anderes-burnout-cafe.de
END:VEVENT
BEGIN:VEVENT
DTSTART;TZID=Europe/Paris:20240604T190000
DTEND;TZID=Europe/Paris:20240604T210000
DTSTAMP:20260422T151056
CREATED:20240505T194242Z
LAST-MODIFIED:20240602T200238Z
UID:10001261-1717527600-1717534800@selbsthilfe-burnout-und-depression.de
SUMMARY:Selbsthilfegruppe ABC Düsseldorf – Kritik geben und verbessern
DESCRIPTION:Die Selbsthilfegruppe ABC Düsseldorf findet regelmäßig am ersten Dienstag im Monat online von 19:00 bis 21:00 0nline statt.\nDie Einwahl erfolgt über https://us02web.zoom.us/j/805791047 \nDie Einwahl in die Selbsthilfegruppe ABC Düsseldorf ist immer 10 Minuten vor dem offiziellen Beginn möglich und sinnvoll. Dies dient zum Ankommen\, Austausch untereinander oder auch dazu\, technische Schwierigkeiten vor Beginn zu beseitigen. Wir legen Wert darauf\, dass jeder mit Bild und Ton an der Veranstaltung teilnimmt. Nur so kann ein vertrauensvoller Austausch untereinander stattfinden. Bitte testet vorher bei der Einwahl Eure Kamera und das Audio. Weitergehende Unterstützung zu ZOOM findet ihr hier. \nNach der offiziellen Startzeit ist keine Einwahl mehr möglich\, denn dies ist Online noch störender als in Präsenzveranstaltungen. Danke für Euer Verständnis. Wir freuen uns auf Euch! \nThema: Kritik geben und verbessern\n \nEs gibt Situationen in den wir glauben\, Kritik zu üben sei angemessen. Wir alle haben schon erlebt\, wie sehr wir betroffen sein können von Äußerungen\, die ein anderer uns gegenüber ausspricht. Wie können wir das vermeiden\, wenn wir selbst Kritik äußern? Wir wollen in der Aussprache Stolpersteine erkennen und in den Übungen erfahren\, wie es anders geht. \n  \nMit unseren Selbsthilfegruppen tragen wir zur emotionalen Entlastung und gegenseitige Unterstützung bei. Die Teilnehmenden geben sich gegenseitige wertschätzende Lebenshilfe. Durch die Teilnahme wird das Selbstbewusstsein und das Selbstwertgefühl gestärkt. Frühwarnzeichen können rechtzeitig erkannt werden\, das soziale Netz wird durch den Austausch mit den Teilnehmenden gestärkt. Die Selbsthilfegruppen tragen dazu bei\, ein individuelles Krisennetzwerk und einen entsprechenden Krisenplan aufzubauen. Übungen tragen zur erfolgreichen Erweiterung der Strategien im Umgang mit der Erkrankung bei. \nAnmeldung zur Selbsthilfegruppe ABC Düsseldorf\nDu kannst immer ohne Anmeldung kommen. Für die Organisation des Treffens wäre eine Anmeldung hilfreich. \nDie Selbsthilfegruppe ermuntert die Teilnehmenden\, neue Sichtweisen zu einem bestimmten Thema auszuprobieren\, sich über Fremd- und Eigenwirkung der Übungen auszutauschen\, neue Handlungsmöglichkeiten zu erforschen und die eigene Lebenssituation neu zu bewerten. Darüber hinaus haben die Teilnehmenden die Möglichkeit\, mit anderen in einen persönlichen Erfahrungsaustausch zu kommen.  \nDie Veranstaltung wird durchgeführt von der Selbsthilfegruppe  ABC Düsseldorf mit Unterstützung des Bundesverband Burnout und Depression e.V. und durch die Pauschalförderung der Selbsthilfegruppen nach  SGB V\, §20h. \nWeitere Veranstaltungen sind hier zu finden. \nInformationen zum Krankheitsbild sind hier auf den Seiten des Bundesverbandes zu finden. \nModeratorinnen\nKim und Liso \nJetzt teilen
URL:https://selbsthilfe-burnout-und-depression.de/event/selbsthilfegruppe-abc-duesseldorf-kritik-geben-und-verbessern
LOCATION:ABC Düsseldorf\, Düsseldorf\, Deutschland
CATEGORIES:Düsseldorf,Freigegeben,Online
ORGANIZER;CN="ABC D%C3%BCsseldorf":MAILTO:duesseldorf{at}anderes-burnout-cafe.de
END:VEVENT
BEGIN:VEVENT
DTSTART;TZID=Europe/Paris:20240507T190000
DTEND;TZID=Europe/Paris:20240507T210000
DTSTAMP:20260422T151056
CREATED:20240407T192738Z
LAST-MODIFIED:20240505T194240Z
UID:10001248-1715108400-1715115600@selbsthilfe-burnout-und-depression.de
SUMMARY:Selbsthilfegruppe ABC Düsseldorf – Gewaltfreie Kommunikation
DESCRIPTION:Die Selbsthilfegruppe ABC Düsseldorf findet regelmäßig am ersten Dienstag im Monat online von 19:00 bis 21:00 0nline statt.\nDie Einwahl erfolgt über https://us02web.zoom.us/j/805791047 \nDie Einwahl in die Selbsthilfegruppe ABC Düsseldorf ist immer 10 Minuten vor dem offiziellen Beginn möglich und sinnvoll. Dies dient zum Ankommen\, Austausch untereinander oder auch dazu\, technische Schwierigkeiten vor Beginn zu beseitigen. Wir legen Wert darauf\, dass jeder mit Bild und Ton an der Veranstaltung teilnimmt. Nur so kann ein vertrauensvoller Austausch untereinander stattfinden. Bitte testet vorher bei der Einwahl Eure Kamera und das Audio. Weitergehende Unterstützung zu ZOOM findet ihr hier. \nNach der offiziellen Startzeit ist keine Einwahl mehr möglich\, denn dies ist Online noch störender als in Präsenzveranstaltungen. Danke für Euer Verständnis. Wir freuen uns auf Euch! \nThema: Gewaltfreie Kommunikation\n \nBei diesem Thema geht es um die grundlegenden Faktoren und Ebenen\, die “Kommunikation” ausmachen\, aber auch um “verhältnismäßige” Kommunikation beim Vorliegen eines Konfliktes\, z.B.\nWie sage ich es meinem Gegenüber? Wie sage ich es früh genug und in welcher Form? Welche non-verbalen Signale kann ich senden\, um das Gesagte zu unterstreichen?\n  \nMit unseren Selbsthilfegruppen tragen wir zur emotionalen Entlastung und gegenseitige Unterstützung bei. Die Teilnehmenden geben sich gegenseitige wertschätzende Lebenshilfe. Durch die Teilnahme wird das Selbstbewusstsein und das Selbstwertgefühl gestärkt. Frühwarnzeichen können rechtzeitig erkannt werden\, das soziale Netz wird durch den Austausch mit den Teilnehmenden gestärkt. Die Selbsthilfegruppen tragen dazu bei\, ein individuelles Krisennetzwerk und einen entsprechenden Krisenplan aufzubauen. Übungen tragen zur erfolgreichen Erweiterung der Strategien im Umgang mit der Erkrankung bei. \nAnmeldung zur Selbsthilfegruppe ABC Düsseldorf\nDu kannst immer ohne Anmeldung kommen. Für die Organisation des Treffens wäre eine Anmeldung hilfreich. \nDie Selbsthilfegruppe ermuntert die Teilnehmenden\, neue Sichtweisen zu einem bestimmten Thema auszuprobieren\, sich über Fremd- und Eigenwirkung der Übungen auszutauschen\, neue Handlungsmöglichkeiten zu erforschen und die eigene Lebenssituation neu zu bewerten. Darüber hinaus haben die Teilnehmenden die Möglichkeit\, mit anderen in einen persönlichen Erfahrungsaustausch zu kommen.  \nDie Veranstaltung wird durchgeführt von der Selbsthilfegruppe  ABC Düsseldorf mit Unterstützung des Bundesverband Burnout und Depression e.V. und durch die Pauschalförderung der Selbsthilfegruppen nach  SGB V\, §20h. \nWeitere Veranstaltungen sind hier zu finden. \nInformationen zum Krankheitsbild sind hier auf den Seiten des Bundesverbandes zu finden. \nModeratorinnen\nKim und Liso \nJetzt teilen
URL:https://selbsthilfe-burnout-und-depression.de/event/selbsthilfegruppe-abc-duesseldorf-gewaltfreie-kommunikation
LOCATION:ABC Düsseldorf\, Düsseldorf\, Deutschland
CATEGORIES:Düsseldorf,Freigegeben,Online
ORGANIZER;CN="ABC D%C3%BCsseldorf":MAILTO:duesseldorf{at}anderes-burnout-cafe.de
END:VEVENT
BEGIN:VEVENT
DTSTART;TZID=Europe/Paris:20240402T190000
DTEND;TZID=Europe/Paris:20240402T210000
DTSTAMP:20260422T151056
CREATED:20240317T181844Z
LAST-MODIFIED:20240331T192727Z
UID:10001220-1712084400-1712091600@selbsthilfe-burnout-und-depression.de
SUMMARY:Selbsthilfegruppe ABC Düsseldorf – Inneres Team
DESCRIPTION:Die Selbsthilfegruppe ABC Düsseldorf findet regelmäßig am ersten Dienstag im Monat online von 19:00 bis 21:00 0nline statt.\nDie Einwahl erfolgt über https://us02web.zoom.us/j/805791047 \nDie Einwahl in die Selbsthilfegruppe ABC Düsseldorf ist immer 10 Minuten vor dem offiziellen Beginn möglich und sinnvoll. Dies dient zum Ankommen\, Austausch untereinander oder auch dazu\, technische Schwierigkeiten vor Beginn zu beseitigen. Wir legen Wert darauf\, dass jeder mit Bild und Ton an der Veranstaltung teilnimmt. Nur so kann ein vertrauensvoller Austausch untereinander stattfinden. Bitte testet vorher bei der Einwahl Eure Kamera und das Audio. Weitergehende Unterstützung zu ZOOM findet ihr hier. \nNach der offiziellen Startzeit ist keine Einwahl mehr möglich\, denn dies ist Online noch störender als in Präsenzveranstaltungen. Danke für Euer Verständnis. Wir freuen uns auf Euch! \nThema: Inneres Team\n \nPersönlichkeitsanteile – unser inneres Team und seine Wirkung auf uns\nWie oft sagen wir: „ich kann mich nicht entscheiden\, ich bin hin- und hergerissen“ oder „ich steh heute völlig neben mir“ oder „habe ich das gerade gesagt?!“\nDas Modell der inneren Anteile – des inneren Teams (Friedemann Schulz von Thun) ist ein Denkmodell\, um sich selbst und seine Verhaltensweisen besser kennenzulernen und auch besser steuern zu können. Wir kümmern uns an diesem Abend um das Kennenlernen des eigenen „Teams“ und sammeln Informationen darüber\, warum wir uns in manchen Situationen nicht wie wir selbst verhalten und was wir tun können\, damit das innere Team auch zusammenarbeiten kann.\n  \nMit unseren Selbsthilfegruppen tragen wir zur emotionalen Entlastung und gegenseitige Unterstützung bei. Die Teilnehmenden geben sich gegenseitige wertschätzende Lebenshilfe. Durch die Teilnahme wird das Selbstbewusstsein und das Selbstwertgefühl gestärkt. Frühwarnzeichen können rechtzeitig erkannt werden\, das soziale Netz wird durch den Austausch mit den Teilnehmenden gestärkt. Die Selbsthilfegruppen tragen dazu bei\, ein individuelles Krisennetzwerk und einen entsprechenden Krisenplan aufzubauen. Übungen tragen zur erfolgreichen Erweiterung der Strategien im Umgang mit der Erkrankung bei. \nAnmeldung zur Selbsthilfegruppe ABC Düsseldorf\nDu kannst immer ohne Anmeldung kommen. Für die Organisation des Treffens wäre eine Anmeldung hilfreich. \nDie Selbsthilfegruppe ermuntert die Teilnehmenden\, neue Sichtweisen zu einem bestimmten Thema auszuprobieren\, sich über Fremd- und Eigenwirkung der Übungen auszutauschen\, neue Handlungsmöglichkeiten zu erforschen und die eigene Lebenssituation neu zu bewerten. Darüber hinaus haben die Teilnehmenden die Möglichkeit\, mit anderen in einen persönlichen Erfahrungsaustausch zu kommen.  \nDie Veranstaltung wird durchgeführt von der Selbsthilfegruppe  ABC Düsseldorf mit Unterstützung des Bundesverband Burnout und Depression e.V. und durch die Pauschalförderung der Selbsthilfegruppen nach  SGB V\, §20h. \nWeitere Veranstaltungen sind hier zu finden. \nInformationen zum Krankheitsbild sind hier auf den Seiten des Bundesverbandes zu finden. \nModeratorinnen\nKim und Liso \nJetzt teilen
URL:https://selbsthilfe-burnout-und-depression.de/event/selbsthilfegruppe-abc-duesseldorf-inneres-team
LOCATION:ABC Düsseldorf\, Düsseldorf\, Deutschland
CATEGORIES:Düsseldorf,Freigegeben,Online
ORGANIZER;CN="ABC D%C3%BCsseldorf":MAILTO:duesseldorf{at}anderes-burnout-cafe.de
END:VEVENT
BEGIN:VEVENT
DTSTART;TZID=Europe/Paris:20240402T190000
DTEND;TZID=Europe/Paris:20240402T210000
DTSTAMP:20260422T151056
CREATED:20240317T181844Z
LAST-MODIFIED:20240317T181844Z
UID:10001230-1712084400-1712091600@selbsthilfe-burnout-und-depression.de
SUMMARY:Selbsthilfegruppe ABC Düsseldorf – Inneres Team
DESCRIPTION:Die Selbsthilfegruppe ABC Düsseldorf findet regelmäßig am ersten Dienstag im Monat online von 19:00 bis 21:00 0nline statt.\nDie Einwahl erfolgt über https://us02web.zoom.us/j/805791047 \nDie Einwahl in die Selbsthilfegruppe ABC Düsseldorf ist immer 10 Minuten vor dem offiziellen Beginn möglich und sinnvoll. Dies dient zum Ankommen\, Austausch untereinander oder auch dazu\, technische Schwierigkeiten vor Beginn zu beseitigen. Wir legen Wert darauf\, dass jeder mit Bild und Ton an der Veranstaltung teilnimmt. Nur so kann ein vertrauensvoller Austausch untereinander stattfinden. Bitte testet vorher bei der Einwahl Eure Kamera und das Audio. Weitergehende Unterstützung zu ZOOM findet ihr hier. \nNach der offiziellen Startzeit ist keine Einwahl mehr möglich\, denn dies ist Online noch störender als in Präsenzveranstaltungen. Danke für Euer Verständnis. Wir freuen uns auf Euch! \nThema: Inneres Team\n \nPersönlichkeitsanteile – unser inneres Team und seine Wirkung auf uns\nWie oft sagen wir: „ich kann mich nicht entscheiden\, ich bin hin- und hergerissen“ oder „ich steh heute völlig neben mir“ oder „habe ich das gerade gesagt?!“\nDas Modell der inneren Anteile – des inneren Teams (Friedemann Schulz von Thun) ist ein Denkmodell\, um sich selbst und seine Verhaltensweisen besser kennenzulernen und auch besser steuern zu können. Wir kümmern uns an diesem Abend um das Kennenlernen des eigenen „Teams“ und sammeln Informationen darüber\, warum wir uns in manchen Situationen nicht wie wir selbst verhalten und was wir tun können\, damit das innere Team auch zusammenarbeiten kann.\n  \nMit unseren Selbsthilfegruppen tragen wir zur emotionalen Entlastung und gegenseitige Unterstützung bei. Die Teilnehmenden geben sich gegenseitige wertschätzende Lebenshilfe. Durch die Teilnahme wird das Selbstbewusstsein und das Selbstwertgefühl gestärkt. Frühwarnzeichen können rechtzeitig erkannt werden\, das soziale Netz wird durch den Austausch mit den Teilnehmenden gestärkt. Die Selbsthilfegruppen tragen dazu bei\, ein individuelles Krisennetzwerk und einen entsprechenden Krisenplan aufzubauen. Übungen tragen zur erfolgreichen Erweiterung der Strategien im Umgang mit der Erkrankung bei. \nAnmeldung zur Selbsthilfegruppe ABC Düsseldorf\nDu kannst immer ohne Anmeldung kommen. Für die Organisation des Treffens wäre eine Anmeldung hilfreich. \nDie Selbsthilfegruppe ermuntert die Teilnehmenden\, neue Sichtweisen zu einem bestimmten Thema auszuprobieren\, sich über Fremd- und Eigenwirkung der Übungen auszutauschen\, neue Handlungsmöglichkeiten zu erforschen und die eigene Lebenssituation neu zu bewerten. Darüber hinaus haben die Teilnehmenden die Möglichkeit\, mit anderen in einen persönlichen Erfahrungsaustausch zu kommen.  \nDie Veranstaltung wird durchgeführt von der Selbsthilfegruppe  ABC Düsseldorf mit Unterstützung des Bundesverband Burnout und Depression e.V. und durch die Pauschalförderung der Selbsthilfegruppen nach  SGB V\, §20h. \nWeitere Veranstaltungen sind hier zu finden. \nInformationen zum Krankheitsbild sind hier auf den Seiten des Bundesverbandes zu finden. \nModeratorinnen\nKim und Liso \nJetzt teilen
URL:https://selbsthilfe-burnout-und-depression.de/event/selbsthilfegruppe-abc-duesseldorf-inneres-team-2
LOCATION:ABC Düsseldorf\, Düsseldorf\, Deutschland
CATEGORIES:Düsseldorf,Freigegeben,Online
ORGANIZER;CN="ABC D%C3%BCsseldorf":MAILTO:duesseldorf{at}anderes-burnout-cafe.de
END:VEVENT
END:VCALENDAR